BEGIN:VCALENDAR
VERSION:2.0
PRODID:-//wbasny - ECPv6.15.20//NONSGML v1.0//EN
CALSCALE:GREGORIAN
METHOD:PUBLISH
X-ORIGINAL-URL:https://www.wbasny.org
X-WR-CALDESC:Events for wbasny
REFRESH-INTERVAL;VALUE=DURATION:PT1H
X-Robots-Tag:noindex
X-PUBLISHED-TTL:PT1H
BEGIN:VTIMEZONE
TZID:America/New_York
BEGIN:DAYLIGHT
TZOFFSETFROM:-0500
TZOFFSETTO:-0400
TZNAME:EDT
DTSTART:20220313T070000
END:DAYLIGHT
BEGIN:STANDARD
TZOFFSETFROM:-0400
TZOFFSETTO:-0500
TZNAME:EST
DTSTART:20221106T060000
END:STANDARD
BEGIN:DAYLIGHT
TZOFFSETFROM:-0500
TZOFFSETTO:-0400
TZNAME:EDT
DTSTART:20230312T070000
END:DAYLIGHT
BEGIN:STANDARD
TZOFFSETFROM:-0400
TZOFFSETTO:-0500
TZNAME:EST
DTSTART:20231105T060000
END:STANDARD
BEGIN:DAYLIGHT
TZOFFSETFROM:-0500
TZOFFSETTO:-0400
TZNAME:EDT
DTSTART:20240310T070000
END:DAYLIGHT
BEGIN:STANDARD
TZOFFSETFROM:-0400
TZOFFSETTO:-0500
TZNAME:EST
DTSTART:20241103T060000
END:STANDARD
END:VTIMEZONE
BEGIN:VEVENT
DTSTART;TZID=America/New_York:20230317T130000
DTEND;TZID=America/New_York:20230317T140000
DTSTAMP:20260421T002652
CREATED:20230220T181936Z
LAST-MODIFIED:20230303T170922Z
UID:65098-1679058000-1679061600@www.wbasny.org
SUMMARY:CLE-Marijuana in the Workplace
DESCRIPTION:Marijuana in the Workplace \n  \nThe passage of the Marihuana Regulation and Taxation Act (MRTA) and related guidance from the New York State Department of Labor has complicated how employers address employee use of marijuana. In this CLE\, Taylor C. Ventre\, Esq. of Harris Beach PLLC\, and Hanan B. Kolko\, Esq. of Cohen Weiss and Simon LLP\, will discuss both how the legal landscape has changed for employers since the passage of the MRTA\, as well as the intersection between state law and the federal treatment of marijuana. Taylor and Hanan will also discuss the practical considerations for employers and where businesses may need to change their practices\, including with respect to drug testing\, disciplining employees for suspected or confirmed drug use\, accommodating medical marijuana users\, and whether employers have an obligation to bargain over these issues. \nSpeakers: \n \nHanan B. Kolko\, Esq.\nPartner\, Cohen Weiss & Simon\, LLP \n \nTaylor C. Ventre\, Esq.\nAssociate\, Harris Beach\, PLLC \n1.0 CLE Credit \n(Professional Practice)\n(Transitional / Non-Transitional) \n  \nCost:\nFree to Members \nNon-Members – $40 \nR.S.V.P. by March 15\, 2023  \nMarch 17\, 2023\, 1 p.m. – 2 p.m. \n  \nREGISTER HERE
URL:https://www.wbasny.org/event/cle-marijuana-in-the-workplace/
ORGANIZER;CN="WBASNY":MAILTO:events@wbasny.org
END:VEVENT
BEGIN:VEVENT
DTSTART;TZID=America/New_York:20230318T100000
DTEND;TZID=America/New_York:20230318T150000
DTSTAMP:20260421T002652
CREATED:20220826T151925Z
LAST-MODIFIED:20220826T151925Z
UID:61886-1679133600-1679151600@www.wbasny.org
SUMMARY:Board of Directors Meeting
DESCRIPTION:Board of Directors Meeting
URL:https://www.wbasny.org/event/board-of-directors-meeting-15/
ORGANIZER;CN="WBASNY":MAILTO:events@wbasny.org
END:VEVENT
BEGIN:VEVENT
DTSTART;TZID=America/New_York:20230318T123000
DTEND;TZID=America/New_York:20230318T143000
DTSTAMP:20260421T002652
CREATED:20230224T172243Z
LAST-MODIFIED:20230224T172243Z
UID:65313-1679142600-1679149800@www.wbasny.org
SUMMARY:The Bronx Chapter celebrates Women's History Month with "Every Woman Needs to Know About Self-Defense."
DESCRIPTION:The Bronx Chapter celebrates Women’s History Month with “Every Woman Needs to Know About Self-Defense.” \nMarch 18\, 2023. 12:30 p.m.\, to 2:30 p.m. \nSelf Defense Class followed by a free wine tasting event. \nCost : $30 \nRegister : dawn.guglielmo.esq@gmail.com \n 
URL:https://www.wbasny.org/event/the-bronx-chapter-celebrates-womens-history-month-with-every-woman-needs-to-know-about-self-defense/
END:VEVENT
BEGIN:VEVENT
DTSTART;TZID=America/New_York:20230320T180000
DTEND;TZID=America/New_York:20230320T190000
DTSTAMP:20260421T002652
CREATED:20230314T143306Z
LAST-MODIFIED:20230314T143306Z
UID:65937-1679335200-1679338800@www.wbasny.org
SUMMARY:Celebrate Women's History Month with Hon. Edwina G. Richardson-Mendelson
DESCRIPTION:
URL:https://www.wbasny.org/event/celebrate-womens-history-month-with-hon-edwina-g-richardson-mendelson/
END:VEVENT
BEGIN:VEVENT
DTSTART;TZID=America/New_York:20230321T133000
DTEND;TZID=America/New_York:20230321T163000
DTSTAMP:20260421T002652
CREATED:20230317T151734Z
LAST-MODIFIED:20230317T151734Z
UID:66083-1679405400-1679416200@www.wbasny.org
SUMMARY:CLE-Fordham University's Sixth Annual Women's Leadership Institute(Rockland)
DESCRIPTION:What: Fordham University’s Sixth Annual Women’s Leadership Institute\, 1 CLE credit \nWhen: Tuesday\, March 21\, 2023 1:30 pm – 4:30 pm \nWhere: Virtual via zoom \nCost: Free\, Register here
URL:https://www.wbasny.org/event/cle-fordham-universitys-sixth-annual-womens-leadership-instituterockland/
END:VEVENT
BEGIN:VEVENT
DTSTART;TZID=America/New_York:20230321T180000
DTEND;TZID=America/New_York:20230321T190000
DTSTAMP:20260421T002652
CREATED:20230227T210547Z
LAST-MODIFIED:20230320T164651Z
UID:65446-1679421600-1679425200@www.wbasny.org
SUMMARY:The "Ins and Outs" of Counsel Fee Applications (New York)
DESCRIPTION:The Matrimonial and Family Law Committee presents: \nThe “Ins and Outs” of Counsel Fee Applications  \nPlease join us for a presentation and conversation on counsel fee awards\, which includes a discussion on the importance of both block and itemized billing in such applications. \nSpeaker:  Susan L. Bender\, Esq. \nMarch 21\, 2023\, 6:00 p.m.\, by Zoom \nClick here for more info and to RSVP.
URL:https://www.wbasny.org/event/the-ins-and-outs-of-counsel-fee-applications/
END:VEVENT
BEGIN:VEVENT
DTSTART;TZID=America/New_York:20230322T173000
DTEND;TZID=America/New_York:20230322T200000
DTSTAMP:20260421T002652
CREATED:20230221T170314Z
LAST-MODIFIED:20230320T164605Z
UID:65180-1679506200-1679515200@www.wbasny.org
SUMMARY:The 26th Annual Ellen P. Hermanson Memorial Symposium (JALBCA)
DESCRIPTION:
URL:https://www.wbasny.org/event/the-26th-annual-ellen-p-hermanson-memorial-symposium/
END:VEVENT
BEGIN:VEVENT
DTSTART;TZID=America/New_York:20230322T180000
DTEND;TZID=America/New_York:20230322T193000
DTSTAMP:20260421T002652
CREATED:20230206T211624Z
LAST-MODIFIED:20230206T211624Z
UID:64911-1679508000-1679513400@www.wbasny.org
SUMMARY:WBASNY Women Judges Committee
DESCRIPTION:Saturday\, March 22\, 2023 – 6:00 – 7:30 pm  \nChapter: WBASNY Women Judges Committee \nName of event: From Roe to Dobbs: Where Do We Go From Here Webinar \nHow will the event be held: Virtual \nCost of event: Free for Members / $40 Non-members
URL:https://www.wbasny.org/event/wbasny-women-judges-committee/
ORGANIZER;CN="WBASNY":MAILTO:events@wbasny.org
END:VEVENT
BEGIN:VEVENT
DTSTART;TZID=America/New_York:20230322T180000
DTEND;TZID=America/New_York:20230322T193000
DTSTAMP:20260421T002652
CREATED:20230220T183523Z
LAST-MODIFIED:20230306T195603Z
UID:65100-1679508000-1679513400@www.wbasny.org
SUMMARY:CLE-From Roe to Dobbs: Where Do We Go From Here
DESCRIPTION:From Roe to Dobbs:\nWhere Do We Go From Here \n  \nA discussion with a lifelong crusader for reproductive rights\, a law professor with extensive work on reproductive rights and justice\, and an attorney on the front lines on the historical context of Roe v. Wade\, the future implication of Dobbs v Jackson\, New York State’s passage of the Equal Rights Amendment\, and what is happening nationally. \n  \nFree for WBASNY members\, $40 for non-members \n  \nCLE approved\, 1.5 credits in Professional Practice \n  \nREGISTER HERE
URL:https://www.wbasny.org/event/cle-from-roe-to-dobbs-where-do-we-go-from-here/
ORGANIZER;CN="WBASNY":MAILTO:events@wbasny.org
END:VEVENT
BEGIN:VEVENT
DTSTART;TZID=America/New_York:20230323T080000
DTEND;TZID=America/New_York:20230323T170000
DTSTAMP:20260421T002652
CREATED:20230323T142017Z
LAST-MODIFIED:20230323T142017Z
UID:66160-1679558400-1679590800@www.wbasny.org
SUMMARY:Boost the 'Cuse (Central New York)
DESCRIPTION:If you’re a Syracuse University alum\, you may have heard that today is Boost the Cuse day! If you’re planning to make a gift\, please consider donating to the CNYWBA Beatrice Krupkin L’76 Endowed Scholarship. This small but mighty scholarship is awarded yearly to a Syracuse University College of Law student – the past two years the winners have been the president of the Women’s Law Students Association! We are proud to support women who empower women. Please give using the QR code or via this link: https://secure.syr.edu/s/1632/17/form/form.aspx?sid=1632
URL:https://www.wbasny.org/event/boost-the-cuse-central-new-york/
END:VEVENT
BEGIN:VEVENT
DTSTART;TZID=America/New_York:20230323T130000
DTEND;TZID=America/New_York:20230323T140000
DTSTAMP:20260421T002652
CREATED:20230315T143249Z
LAST-MODIFIED:20230315T143249Z
UID:65984-1679576400-1679580000@www.wbasny.org
SUMMARY:CLE-Security Deposits: What Attorneys Should Know to Protect Their Clients' Rights
DESCRIPTION:RSVP to Security Deposit CLE
URL:https://www.wbasny.org/event/cle-security-deposits-what-attorneys-should-know-to-protect-their-clients-rights/
END:VEVENT
BEGIN:VEVENT
DTSTART;TZID=America/New_York:20230323T193000
DTEND;TZID=America/New_York:20230323T203000
DTSTAMP:20260421T002652
CREATED:20230314T143620Z
LAST-MODIFIED:20230320T164439Z
UID:65940-1679599800-1679603400@www.wbasny.org
SUMMARY:Voting Rights-What Now\, and What Is Ahead For 2024? (New York)
DESCRIPTION:Click here to purchase tickets.  The NYWBA Foundation is a 501(c)(3) charity. Your donation is tax deductible as a charitable donation to the fullest extent allowed by law.
URL:https://www.wbasny.org/event/voting-rights-what-now-and-what-is-ahead-for-2024/
END:VEVENT
BEGIN:VEVENT
DTSTART;TZID=America/New_York:20230325T100000
DTEND;TZID=America/New_York:20230325T110000
DTSTAMP:20260421T002652
CREATED:20230224T173254Z
LAST-MODIFIED:20230224T173311Z
UID:65315-1679738400-1679742000@www.wbasny.org
SUMMARY:The Queens & Bronx Women's Bar Association networking event at the Orchid Show at the New York Botanical Gardens
DESCRIPTION:The Queens & Bronx Women’s Bar Association networking event at the Orchid Show at the New York Botanical Gardens \nMarch 25\, 2023\, 10:00 AM \n2900 Southern Boulevard\, Bronx NY \nCost : Adults $31.00. \nbuy tickets directly from NY botanical garden \nRSVP : info@qcwba.org
URL:https://www.wbasny.org/event/the-queens-bronx-womens-bar-association-networking-event-at-the-orchid-show-at-the-new-york-botanical-gardens/
END:VEVENT
BEGIN:VEVENT
DTSTART;TZID=America/New_York:20230329T173000
DTEND;TZID=America/New_York:20230329T190000
DTSTAMP:20260421T002652
CREATED:20230307T172031Z
LAST-MODIFIED:20230307T172031Z
UID:65805-1680111000-1680116400@www.wbasny.org
SUMMARY:A Conversation with Constance Baker Motley
DESCRIPTION:The program will also be live-streamed for those unable to attend in person. \nCLICK HERE TO REGISTER FOR THE PROGRAM \nFor questions about the program\, please contact the Williams Commission at FHWilliams@nycourts.gov.
URL:https://www.wbasny.org/event/a-conversation-with-constance-baker-motley/
ORGANIZER;CN="Western New York Women's Bar Association":MAILTO:wbasnywny@gmail.com
END:VEVENT
BEGIN:VEVENT
DTSTART;TZID=America/New_York:20230329T180000
DTEND;TZID=America/New_York:20230329T190000
DTSTAMP:20260421T002652
CREATED:20230324T203248Z
LAST-MODIFIED:20230324T203248Z
UID:66186-1680112800-1680116400@www.wbasny.org
SUMMARY:Women's History Month Co-Sponsored by QCBA
DESCRIPTION:Women’s History Month co-sponsored by QCBA: The Women of The Appellate Term\, 2nd\, 11th and 13th Judicial Districts on 3/29/2023 @ 6 p.m.  Register Here
URL:https://www.wbasny.org/event/womens-history-month-co-sponsored-by-qcba/
END:VEVENT
BEGIN:VEVENT
DTSTART;TZID=America/New_York:20230330T120000
DTEND;TZID=America/New_York:20230330T130000
DTSTAMP:20260421T002652
CREATED:20230222T153222Z
LAST-MODIFIED:20230316T174921Z
UID:65199-1680177600-1680181200@www.wbasny.org
SUMMARY:Brown Bag Lunch with Justice Sharon Graff (Mid-Hudson)
DESCRIPTION:Brown bag lunch with Justice Sharon Graff\, Ulster County Supreme Court. \nAll members are invited to the courtroom of Justice Sharon Graff for a brown bag lunch. \nLocation – Ulster County Supreme Court\, Wall Street\, Kingston \nRegister Here – Midhudsonwba@gmail.com
URL:https://www.wbasny.org/event/brown-bag-lunch-with-justice-sharon-graff/
END:VEVENT
BEGIN:VEVENT
DTSTART;TZID=America/New_York:20230330T120000
DTEND;TZID=America/New_York:20230330T130000
DTSTAMP:20260421T002652
CREATED:20230321T152834Z
LAST-MODIFIED:20230321T152834Z
UID:66117-1680177600-1680181200@www.wbasny.org
SUMMARY:How to Become an Immigration Judge Information Session (New York)
DESCRIPTION: How to Become an Immigration Judge\nInformation Session \nThis information session will be conducted by senior staff of the Executive Office for Immigration Review (EOIR)\, an agency within the United States Department of Justice that adjudicates immigration cases and conducts immigration court proceedings. In this information session\, we will explain to you who immigration judges are and share some of their backgrounds\, the duties of an immigration judge\, and the benefits of working for EOIR. At the end of our presentation\, we will answer questions about the immigration judge position and application process.\n \n\n\n\nDate:\nMarch 30\, 2023\n\n\nTime:\n12pm-1pm EST\n\n\nLocation:\nNew York Immigration Court (address to follow)\n(In-person and virtual attendance permitted)\n\n\nRSVP:\nmarcella@soniacol.com
URL:https://www.wbasny.org/event/how-to-become-an-immigration-judge-information-session-new-york/
END:VEVENT
BEGIN:VEVENT
DTSTART;TZID=America/New_York:20230330T123000
DTEND;TZID=America/New_York:20230330T140000
DTSTAMP:20260421T002652
CREATED:20230315T145830Z
LAST-MODIFIED:20230316T174800Z
UID:65990-1680179400-1680184800@www.wbasny.org
SUMMARY:Women in the New York State Court System: Miles Yet To Go (Western New York)
DESCRIPTION:CLICK HERE TO JOIN MEETING
URL:https://www.wbasny.org/event/women-in-the-new-york-state-court-system-miles-yet-to-go/
ORGANIZER;CN="Western New York Women's Bar Association":MAILTO:wbasnywny@gmail.com
END:VEVENT
BEGIN:VEVENT
DTSTART;TZID=America/New_York:20230330T130000
DTEND;TZID=America/New_York:20230330T140000
DTSTAMP:20260421T002652
CREATED:20230223T162934Z
LAST-MODIFIED:20230316T174707Z
UID:65216-1680181200-1680184800@www.wbasny.org
SUMMARY:My Guru Wears Heels by author Joanna Rajendran who is a life coach and yoga and meditation instructor (Bronx)
DESCRIPTION:My Guru Wears Heels by author Joanna Rajendran who is a life coach and yoga and meditation instructor. \nMarch 30\, 2023\, 1:00 p.m. – 2:00 p.m. \nAuthor will guide us through a powerful exercise of creating our own stories. \nContact – playteresq@yahoo.com Savina Playter
URL:https://www.wbasny.org/event/my-guru-wears-heels-by-author-joanna-rajendran-who-is-a-life-coach-and-yoga-and-meditation-instructor/
END:VEVENT
BEGIN:VEVENT
DTSTART;TZID=America/New_York:20230330T173000
DTEND;TZID=America/New_York:20230330T203000
DTSTAMP:20260421T002652
CREATED:20230323T142531Z
LAST-MODIFIED:20230323T142531Z
UID:66164-1680197400-1680208200@www.wbasny.org
SUMMARY:Women's History Month Mixer (Central New York)
DESCRIPTION:
URL:https://www.wbasny.org/event/womens-history-month-mixer-central-new-york/
END:VEVENT
BEGIN:VEVENT
DTSTART;TZID=America/New_York:20230330T180000
DTEND;TZID=America/New_York:20230330T190000
DTSTAMP:20260421T002652
CREATED:20230310T180921Z
LAST-MODIFIED:20230316T174610Z
UID:65911-1680199200-1680202800@www.wbasny.org
SUMMARY:Hon. Lori Currier Woods Retirement Party (Orange and Sullivan)
DESCRIPTION:
URL:https://www.wbasny.org/event/hon-lori-currier-woods-retirement-party/
END:VEVENT
BEGIN:VEVENT
DTSTART;TZID=America/New_York:20230330T180000
DTEND;TZID=America/New_York:20230330T190000
DTSTAMP:20260421T002652
CREATED:20230321T155212Z
LAST-MODIFIED:20230321T155317Z
UID:66119-1680199200-1680202800@www.wbasny.org
SUMMARY:CLE-Cybersecurity (Suffolk)
DESCRIPTION:Cybersecurity \nDownload Document to Register
URL:https://www.wbasny.org/event/cle-cybersecurity-suffolk/
END:VEVENT
BEGIN:VEVENT
DTSTART;TZID=America/New_York:20230331T180000
DTEND;TZID=America/New_York:20230331T200000
DTSTAMP:20260421T002652
CREATED:20230313T194747Z
LAST-MODIFIED:20230316T174524Z
UID:65932-1680285600-1680292800@www.wbasny.org
SUMMARY:Annual Law Sabbath (Queens)
DESCRIPTION:
URL:https://www.wbasny.org/event/annual-law-sabbath/
END:VEVENT
BEGIN:VEVENT
DTSTART;TZID=America/New_York:20230403T160000
DTEND;TZID=America/New_York:20230403T183000
DTSTAMP:20260421T002652
CREATED:20230214T205425Z
LAST-MODIFIED:20230316T174405Z
UID:65010-1680537600-1680546600@www.wbasny.org
SUMMARY:Roadways to the Bench: Who Me? A Bankruptcy or Magistrate Judge? (Del-Chen-O)
DESCRIPTION:Roadways to the Bench: Who Me?  \nA Bankruptcy or Magistrate Judge?  \nTo further the goal of casting a wide net to attract the broadest possible pool of qualified applicant to serve as federal judges\, the Judicial Conference Committees on the Administration of Bankruptcy System and Magistrate Judges System present their national diversity event. \nInterested Lawyers and law students are invited to observe a real time national pane discussion followed by roundtables with judges from the WDNY and NDNTY discussing pathways to the federal bench. \nMonday\, April 3\, 2023 4:00—6:15pm | \nReception to Follow Syracuse College of Law | Dineen Hall 4:00—4:15pm Registration 4:15—4:30pm \nWelcome/Introduction of Local Judges 4:30—5:15pm \nNationwide Panel Discussion by Video 5:15—6:15pm \nIn-person Round Table Discussions 6:15—7:00pm \nReception with Light Refreshments \nClick on the below like for the flyer \nUS Courts Roadways to the Bench \nRegistration closes March 10.
URL:https://www.wbasny.org/event/roadways-to-the-bench-who-me-a-bankruptcy-or-magistrate-judge/
END:VEVENT
BEGIN:VEVENT
DTSTART;TZID=America/New_York:20230403T180000
DTEND;TZID=America/New_York:20230403T190000
DTSTAMP:20260421T002652
CREATED:20230324T203840Z
LAST-MODIFIED:20230324T203840Z
UID:66191-1680544800-1680548400@www.wbasny.org
SUMMARY:Matrimonial Practice Diversity Summit (New York)
DESCRIPTION:NYC Bar with NYS Unified Court System and New York Chapter of the American Academy of Matrimonial Lawyers present Matrimonial Practice Diversity Summit on 4/3/2023 @ 6 p.m.  Register Here.
URL:https://www.wbasny.org/event/matrimonial-practice-diversity-summit-new-york/
END:VEVENT
BEGIN:VEVENT
DTSTART;TZID=America/New_York:20230403T180000
DTEND;TZID=America/New_York:20230403T210000
DTSTAMP:20260421T002652
CREATED:20220826T152050Z
LAST-MODIFIED:20230316T174258Z
UID:61889-1680544800-1680555600@www.wbasny.org
SUMMARY:Officers Zoom Meeting (WBASNY)
DESCRIPTION:Officers Zoom Meeting
URL:https://www.wbasny.org/event/officers-zoom-meeting-8/
ORGANIZER;CN="WBASNY":MAILTO:events@wbasny.org
END:VEVENT
BEGIN:VEVENT
DTSTART;TZID=America/New_York:20230406T120000
DTEND;TZID=America/New_York:20230406T130000
DTSTAMP:20260421T002652
CREATED:20230308T180952Z
LAST-MODIFIED:20230308T180952Z
UID:65833-1680782400-1680786000@www.wbasny.org
SUMMARY:CLE-2023 Civil Evidence Update with Professor Michael Hunter
DESCRIPTION:Chapter: Mid Hudson \nName of Event: 2023 Civil Evidence Update with Prof Michael Hutter \nDescription of Event:  This is a virtual CLE with Professor Michael Hutter on the latest updates regarding evidence. \nHow will the event be held: Virtual \nCost:  $0 for Mid Hudson Members\, $20 for WBASNY members \nContact email: midhudsonwba@gmail.com \nRegistration link: Civil Evidence Update 2023 with Professor Michael Hutter Tickets\, Thu\, Apr 6\, 2023 at 12:00 PM | Eventbrite
URL:https://www.wbasny.org/event/cle-2023-civil-evidence-update-with-professor-michael-hunter/
END:VEVENT
BEGIN:VEVENT
DTSTART;TZID=America/New_York:20230406T123000
DTEND;TZID=America/New_York:20230406T133000
DTSTAMP:20260421T002652
CREATED:20230307T180931Z
LAST-MODIFIED:20230405T215919Z
UID:65811-1680784200-1680787800@www.wbasny.org
SUMMARY:Meditation: Yoga Class (WBASNY)
DESCRIPTION:Thursday\, April 6\, 2023 12:30 pm – 1:30 pm \nSponsoring Organization: WBASNY Wellness Committee \nName of event: Meditation: Yoga Class \nDescription of event: This yoga class improves your physical strength while also calming your nervous system and decreasing stress. You will gradually work up to a little sweat\, and then cool down with stretches designed to invite inner calm. This class is perfect for lawyers who expend a lot of mental energy throughout the day\, often neglecting their own wellness needs. \nHow will the event be held: Virtual \nHost(s): WBASNY Wellness Copmmittee \nCost of event: Free for members \nRegistration link: https://us02web.zoom.us/meeting/register/tZAtce-hqDotHtXusD4FaRq5TJJgZ-DIbGogg \nContact Email: events@wbasny.org
URL:https://www.wbasny.org/event/meditation-yoga-class/
ORGANIZER;CN="WBASNY":MAILTO:events@wbasny.org
END:VEVENT
BEGIN:VEVENT
DTSTART;TZID=America/New_York:20230406T160000
DTEND;TZID=America/New_York:20230406T180000
DTSTAMP:20260421T002652
CREATED:20230315T205845Z
LAST-MODIFIED:20230315T205845Z
UID:66011-1680796800-1680804000@www.wbasny.org
SUMMARY:CLE-Oral Advocacy
DESCRIPTION:ORAL ADVOCACY CLE \nApril 6\, 2023 at 4-6pm \n\n\n\n\nGet the “View from the Bench” you won’t hear anywhere else! \nThe Honorable Mae D’Agostino is joining the Adirondack Women’s Bar Association and Saratoga County Bar Association to share insight on strategies\, persuasive techniques\, and ethical considerations for effective oral advocacy. \n\n\n\n\nMama Mia’s Restaurant\, 185 Ballston Ave\, Saratoga Springs\, NY \nREGISTER HERE
URL:https://www.wbasny.org/event/cle-oral-advocacy/
END:VEVENT
BEGIN:VEVENT
DTSTART;TZID=America/New_York:20230410T170000
DTEND;TZID=America/New_York:20230410T180000
DTSTAMP:20260421T002652
CREATED:20230327T152439Z
LAST-MODIFIED:20230327T152452Z
UID:66208-1681146000-1681149600@www.wbasny.org
SUMMARY:Animal Law Committee Meeting by Zoom (New York)
DESCRIPTION:Animal Law Committee Meeting by Zoom\nApril 10\, 2023 at 5:15 p.m. \nRSVP AnimalLaw@nywba.org \nThe Animal Law Committee of the New York Chapter of the Women’s Bar Association is delighted to announce a very special speaker for our upcoming April 10\, 2023 (virtual) meeting. \nNew York State Assemblymember Linda B. Rosenthal\, who represents the 67th Assembly District (West Side of Manhattan)\, has been at the forefront in sponsoring and actively supporting a panoply of legislation touching on a variety of issues that are near and dear to the hearts and minds of animal welfare activists and animal lovers throughout the state.  Through many of her successful legislative priorities\, Assemblymember Rosenthal has created a “paw-print” for a much more humane New York\, most recently by co-sponsoring and maintaining a leadership role to help achieve passage and signing of the bill banning the sale of dogs\, cats and rabbits in New York pet stores\, thereby facilitating an end to the horrific and cruel “puppy mill” trade. \nPlease join us as Assemblymember Rosenthal shares with our group news of some recent legislative accomplishments\, as well as her visions and plans for the future. \nCommittee members and non-committee members alike are all welcome to attend\, and all are encouraged to submit questions in advance.
URL:https://www.wbasny.org/event/animal-law-committee-meeting-by-zoom/
END:VEVENT
END:VCALENDAR