BEGIN:VCALENDAR
VERSION:2.0
PRODID:-//wbasny - ECPv6.15.20//NONSGML v1.0//EN
CALSCALE:GREGORIAN
METHOD:PUBLISH
X-ORIGINAL-URL:https://www.wbasny.org
X-WR-CALDESC:Events for wbasny
REFRESH-INTERVAL;VALUE=DURATION:PT1H
X-Robots-Tag:noindex
X-PUBLISHED-TTL:PT1H
BEGIN:VTIMEZONE
TZID:America/New_York
BEGIN:DAYLIGHT
TZOFFSETFROM:-0500
TZOFFSETTO:-0400
TZNAME:EDT
DTSTART:20250309T070000
END:DAYLIGHT
BEGIN:STANDARD
TZOFFSETFROM:-0400
TZOFFSETTO:-0500
TZNAME:EST
DTSTART:20251102T060000
END:STANDARD
BEGIN:DAYLIGHT
TZOFFSETFROM:-0500
TZOFFSETTO:-0400
TZNAME:EDT
DTSTART:20260308T070000
END:DAYLIGHT
BEGIN:STANDARD
TZOFFSETFROM:-0400
TZOFFSETTO:-0500
TZNAME:EST
DTSTART:20261101T060000
END:STANDARD
BEGIN:DAYLIGHT
TZOFFSETFROM:-0500
TZOFFSETTO:-0400
TZNAME:EDT
DTSTART:20270314T070000
END:DAYLIGHT
BEGIN:STANDARD
TZOFFSETFROM:-0400
TZOFFSETTO:-0500
TZNAME:EST
DTSTART:20271107T060000
END:STANDARD
END:VTIMEZONE
BEGIN:VEVENT
DTSTART;TZID=America/New_York:20260429T083000
DTEND;TZID=America/New_York:20260429T093000
DTSTAMP:20260420T133414
CREATED:20260413T210438Z
LAST-MODIFIED:20260413T210438Z
UID:101932-1777451400-1777455000@www.wbasny.org
SUMMARY:CLE- From Will Execution to Surrogate's Court: How Smart Estate Planning Prevents Delay and Conflict
DESCRIPTION:CLICK HERE TO DOWNLOAD FLYER AND REGISTER
URL:https://www.wbasny.org/event/cle-from-will-execution-to-surrogates-court-how-smart-estate-planning-prevents-delay-and-conflict/
END:VEVENT
BEGIN:VEVENT
DTSTART;TZID=America/New_York:20260429T120000
DTEND;TZID=America/New_York:20260429T140000
DTSTAMP:20260420T133415
CREATED:20260326T154313Z
LAST-MODIFIED:20260326T155001Z
UID:101032-1777464000-1777471200@www.wbasny.org
SUMMARY:Law & Medicine Luncheon (Central New York Chapter)
DESCRIPTION:Join us for the 2026 Law & Medicine Luncheon! \nPlease invite all who are interested to join us for this timely panel topic: Ethical Quandaries & Legal Challenges in Medical Practice\, Post-Dobbs. \n$10 admission includes light lunch fare. CLE credit pending. \nREGISTER HERE
URL:https://www.wbasny.org/event/law-medicine-luncheon-central-new-york-chapter/
END:VEVENT
BEGIN:VEVENT
DTSTART;TZID=America/New_York:20260504T110000
DTEND;TZID=America/New_York:20260504T170000
DTSTAMP:20260420T133415
CREATED:20260417T173519Z
LAST-MODIFIED:20260417T173519Z
UID:102471-1777892400-1777914000@www.wbasny.org
SUMMARY:Blood Drive (Suffolk Chapter)
DESCRIPTION:MAKE AN APPOINTMENT ONLINE AT: SCBA.ORG
URL:https://www.wbasny.org/event/blood-drive-suffolk-chapter/
END:VEVENT
BEGIN:VEVENT
DTSTART;TZID=America/New_York:20260506T180000
DTEND;TZID=America/New_York:20260506T190000
DTSTAMP:20260420T133415
CREATED:20260324T195912Z
LAST-MODIFIED:20260324T195912Z
UID:100912-1778090400-1778094000@www.wbasny.org
SUMMARY:Beginner's Mahjong! (New York Chapter)
DESCRIPTION:FOR MAHJONG EVENT ONLY
URL:https://www.wbasny.org/event/beginners-mahjong-new-york-chapter/
END:VEVENT
BEGIN:VEVENT
DTSTART;TZID=America/New_York:20260507T130000
DTEND;TZID=America/New_York:20260507T140000
DTSTAMP:20260420T133415
CREATED:20260420T171612Z
LAST-MODIFIED:20260420T171708Z
UID:102711-1778158800-1778162400@www.wbasny.org
SUMMARY:CLE- Ethical Legal Research with Generative AI
DESCRIPTION:presents \nEthical Legal Research with Generative AI \n  \nMay 7\, 2026 \n1:00 – 2:00 pm \nThis CLE presentation is for legal professionals who want a better understanding of the intersection between generative AI and legal ethics. Beginning with a foundational overview of AI and its generative capabilities\, participants will explore the ethical implications as outlined by the American Bar Association (ABA) model rules. Key topics include maintaining competency (Rule 1.1)\, ensuring confidentiality (Rule 1.6)\, and effective supervision (Rule 5.1) in the context of AI use. \nSponsored by: \n \n1.0 CLE Credits  \n(1.0 Cybersecurity\, Privacy and Data Protection – Ethics)\n(Transitional / Non-Transitional) \nCost:\nFree to Members \nNon-Members – $40 \nREGISTER HERE
URL:https://www.wbasny.org/event/cle-ethical-legal-research-with-generative-ai/
ORGANIZER;CN="WBASNY":MAILTO:events@wbasny.org
END:VEVENT
BEGIN:VEVENT
DTSTART;TZID=America/New_York:20260512T180000
DTEND;TZID=America/New_York:20260512T200000
DTSTAMP:20260420T133415
CREATED:20250829T211533Z
LAST-MODIFIED:20250829T211533Z
UID:90487-1778608800-1778616000@www.wbasny.org
SUMMARY:Officers Zoom Meeting (WBASNY)
DESCRIPTION:Officers Zoom Meeting \nVirtual
URL:https://www.wbasny.org/event/officers-zoom-meeting-wbasny-4/
ORGANIZER;CN="WBASNY":MAILTO:events@wbasny.org
END:VEVENT
BEGIN:VEVENT
DTSTART;TZID=America/New_York:20260513T130000
DTEND;TZID=America/New_York:20260513T140000
DTSTAMP:20260420T133415
CREATED:20260119T181331Z
LAST-MODIFIED:20260119T181331Z
UID:98082-1778677200-1778680800@www.wbasny.org
SUMMARY:CLE- Evidence Series
DESCRIPTION:
URL:https://www.wbasny.org/event/cle-evidence-series-5/
END:VEVENT
BEGIN:VEVENT
DTSTART;TZID=America/New_York:20260514T123000
DTEND;TZID=America/New_York:20260514T133000
DTSTAMP:20260420T133415
CREATED:20260319T151026Z
LAST-MODIFIED:20260319T151026Z
UID:100646-1778761800-1778765400@www.wbasny.org
SUMMARY:Whatcha Doin' for Lunch? (Mid-Hudson Chapter)
DESCRIPTION:
URL:https://www.wbasny.org/event/whatcha-doin-for-lunch-mid-hudson-chapter/
END:VEVENT
BEGIN:VEVENT
DTSTART;TZID=America/New_York:20260515T090000
DTEND;TZID=America/New_York:20260515T170000
DTSTAMP:20260420T133415
CREATED:20260324T171427Z
LAST-MODIFIED:20260324T171427Z
UID:100894-1778835600-1778864400@www.wbasny.org
SUMMARY:The Path Restored: Realities of the Road from Separation to Reunification (Orange and Sullivan Chapters)
DESCRIPTION:
URL:https://www.wbasny.org/event/the-path-restored-realities-of-the-road-from-separation-to-reunification-orange-and-sullivan-chapters/
END:VEVENT
BEGIN:VEVENT
DTSTART;TZID=America/New_York:20260527T173000
DTEND;TZID=America/New_York:20260527T180000
DTSTAMP:20260420T133415
CREATED:20260325T155014Z
LAST-MODIFIED:20260325T155014Z
UID:100922-1779903000-1779904800@www.wbasny.org
SUMMARY:STD Annual Awards Celebration & Installation of the 44th President (GRAWA Chapter)
DESCRIPTION:
URL:https://www.wbasny.org/event/std-annual-awards-celebration-installation-of-the-44th-president-grawa-chapter/
END:VEVENT
BEGIN:VEVENT
DTSTART;TZID=America/New_York:20260528T080000
DTEND;TZID=America/New_York:20260531T170000
DTSTAMP:20260420T133415
CREATED:20250829T211649Z
LAST-MODIFIED:20250829T211649Z
UID:90489-1779955200-1780246800@www.wbasny.org
SUMMARY:WBASNY Convention 2026
DESCRIPTION:WBASNY Convention 2026 \nWoodcliff Hotel & Spa \nRochester\, NY
URL:https://www.wbasny.org/event/wbasny-convention-2026/
ORGANIZER;CN="WBASNY":MAILTO:events@wbasny.org
END:VEVENT
BEGIN:VEVENT
DTSTART;TZID=America/New_York:20260609T080000
DTEND;TZID=America/New_York:20260609T170000
DTSTAMP:20260420T133415
CREATED:20260319T150833Z
LAST-MODIFIED:20260319T150833Z
UID:100644-1780992000-1781024400@www.wbasny.org
SUMMARY:MWHBA Installation Dinner
DESCRIPTION:
URL:https://www.wbasny.org/event/mwhba-installation-dinner/
END:VEVENT
BEGIN:VEVENT
DTSTART;TZID=America/New_York:20260610T130000
DTEND;TZID=America/New_York:20260610T140000
DTSTAMP:20260420T133415
CREATED:20260119T181438Z
LAST-MODIFIED:20260119T181438Z
UID:98084-1781096400-1781100000@www.wbasny.org
SUMMARY:CLE- Evidence Series
DESCRIPTION:
URL:https://www.wbasny.org/event/cle-evidence-series-6/
END:VEVENT
BEGIN:VEVENT
DTSTART;TZID=America/New_York:20260714T180000
DTEND;TZID=America/New_York:20260714T190000
DTSTAMP:20260420T133415
CREATED:20251229T154234Z
LAST-MODIFIED:20251229T154234Z
UID:97416-1784052000-1784055600@www.wbasny.org
SUMMARY:The Martha E. Gifford Summer Program: What It's "REALLY" Like to Practice Law as a Woman (New York Chapter)
DESCRIPTION:July 14\, 2026 6:00 pm \nThe Martha E. Gifford Summer Program: What It’s “REALLY” Like to Practice Law as a Woman \nIn-Person \nNew York City Bar\, 42 west 44th St\, New York\, NY 10036 \nREGISTER HERE
URL:https://www.wbasny.org/event/the-martha-e-gifford-summer-program-what-its-really-like-to-practice-law-as-a-woman-new-york-chapter/
END:VEVENT
BEGIN:VEVENT
DTSTART;TZID=America/New_York:20260718T130000
DTEND;TZID=America/New_York:20260718T140000
DTSTAMP:20260420T133415
CREATED:20260119T181533Z
LAST-MODIFIED:20260119T181533Z
UID:98086-1784379600-1784383200@www.wbasny.org
SUMMARY:CLE- Evidence Series
DESCRIPTION:
URL:https://www.wbasny.org/event/cle-evidence-series-7/
END:VEVENT
BEGIN:VEVENT
DTSTART;TZID=America/New_York:20260812T130000
DTEND;TZID=America/New_York:20260812T140000
DTSTAMP:20260420T133415
CREATED:20260119T181640Z
LAST-MODIFIED:20260119T181640Z
UID:98088-1786539600-1786543200@www.wbasny.org
SUMMARY:CLE- Evidence Series
DESCRIPTION:
URL:https://www.wbasny.org/event/cle-evidence-series-8/
END:VEVENT
BEGIN:VEVENT
DTSTART;TZID=America/New_York:20260813T080000
DTEND;TZID=America/New_York:20260813T170000
DTSTAMP:20260420T133415
CREATED:20260402T194825Z
LAST-MODIFIED:20260402T194825Z
UID:101550-1786608000-1786640400@www.wbasny.org
SUMMARY:Installation Dinner Save the Date (Capital District Chapter)
DESCRIPTION:
URL:https://www.wbasny.org/event/installation-dinner-save-the-date-capital-district-chapter/
END:VEVENT
BEGIN:VEVENT
DTSTART;TZID=America/New_York:20260909T130000
DTEND;TZID=America/New_York:20260909T140000
DTSTAMP:20260420T133415
CREATED:20260119T181815Z
LAST-MODIFIED:20260119T181815Z
UID:98091-1788958800-1788962400@www.wbasny.org
SUMMARY:CLE- Evidence Series
DESCRIPTION:
URL:https://www.wbasny.org/event/cle-evidence-series-9/
END:VEVENT
BEGIN:VEVENT
DTSTART;TZID=America/New_York:20261014T130000
DTEND;TZID=America/New_York:20261014T140000
DTSTAMP:20260420T133415
CREATED:20260119T181911Z
LAST-MODIFIED:20260119T181911Z
UID:98093-1791982800-1791986400@www.wbasny.org
SUMMARY:CLE- Evidence Series
DESCRIPTION:
URL:https://www.wbasny.org/event/cle-evidence-series-10/
END:VEVENT
BEGIN:VEVENT
DTSTART;TZID=America/New_York:20261118T130000
DTEND;TZID=America/New_York:20261118T140000
DTSTAMP:20260420T133415
CREATED:20260119T182012Z
LAST-MODIFIED:20260119T182012Z
UID:98095-1795006800-1795010400@www.wbasny.org
SUMMARY:CLE- Evidence Series
DESCRIPTION:
URL:https://www.wbasny.org/event/cle-evidence-series-11/
END:VEVENT
BEGIN:VEVENT
DTSTART;TZID=America/New_York:20261209T130000
DTEND;TZID=America/New_York:20261209T140000
DTSTAMP:20260420T133415
CREATED:20260119T182115Z
LAST-MODIFIED:20260119T182115Z
UID:98097-1796821200-1796824800@www.wbasny.org
SUMMARY:CLE- Evidence Series
DESCRIPTION:
URL:https://www.wbasny.org/event/cle-evidence-series-12/
END:VEVENT
END:VCALENDAR