BEGIN:VCALENDAR
VERSION:2.0
PRODID:-//wbasny - ECPv6.15.20//NONSGML v1.0//EN
CALSCALE:GREGORIAN
METHOD:PUBLISH
X-WR-CALNAME:wbasny
X-ORIGINAL-URL:https://www.wbasny.org
X-WR-CALDESC:Events for wbasny
REFRESH-INTERVAL;VALUE=DURATION:PT1H
X-Robots-Tag:noindex
X-PUBLISHED-TTL:PT1H
BEGIN:VTIMEZONE
TZID:America/New_York
BEGIN:DAYLIGHT
TZOFFSETFROM:-0500
TZOFFSETTO:-0400
TZNAME:EDT
DTSTART:20230312T070000
END:DAYLIGHT
BEGIN:STANDARD
TZOFFSETFROM:-0400
TZOFFSETTO:-0500
TZNAME:EST
DTSTART:20231105T060000
END:STANDARD
BEGIN:DAYLIGHT
TZOFFSETFROM:-0500
TZOFFSETTO:-0400
TZNAME:EDT
DTSTART:20240310T070000
END:DAYLIGHT
BEGIN:STANDARD
TZOFFSETFROM:-0400
TZOFFSETTO:-0500
TZNAME:EST
DTSTART:20241103T060000
END:STANDARD
BEGIN:DAYLIGHT
TZOFFSETFROM:-0500
TZOFFSETTO:-0400
TZNAME:EDT
DTSTART:20250309T070000
END:DAYLIGHT
BEGIN:STANDARD
TZOFFSETFROM:-0400
TZOFFSETTO:-0500
TZNAME:EST
DTSTART:20251102T060000
END:STANDARD
END:VTIMEZONE
BEGIN:VEVENT
DTSTART;TZID=America/New_York:20240213T180000
DTEND;TZID=America/New_York:20240213T210000
DTSTAMP:20260420T141443
CREATED:20231003T205215Z
LAST-MODIFIED:20231003T205215Z
UID:68491-1707847200-1707858000@www.wbasny.org
SUMMARY:Officers Zoom Meeting
DESCRIPTION:Officers Zoom Meeting
URL:https://www.wbasny.org/event/officers-zoom-meeting-12/
ORGANIZER;CN="WBASNY":MAILTO:events@wbasny.org
END:VEVENT
BEGIN:VEVENT
DTSTART;TZID=America/New_York:20240214T130000
DTEND;TZID=America/New_York:20240214T140000
DTSTAMP:20260420T141443
CREATED:20240205T182754Z
LAST-MODIFIED:20240205T182754Z
UID:70128-1707915600-1707919200@www.wbasny.org
SUMMARY:My Ex Hacked Me! Cyber Stalking in Family Law Cases (Bronx Chapter)
DESCRIPTION:
URL:https://www.wbasny.org/event/my-ex-hacked-me-cyber-stalking-in-family-law-cases-bronx-chapter/
END:VEVENT
BEGIN:VEVENT
DTSTART;TZID=America/New_York:20240215T120000
DTEND;TZID=America/New_York:20240215T133000
DTSTAMP:20260420T141443
CREATED:20231101T210323Z
LAST-MODIFIED:20231101T210323Z
UID:68984-1707998400-1708003800@www.wbasny.org
SUMMARY:Third Thursday Luncheon (Mid Hudson Chapter)
DESCRIPTION:Third Thursday Luncheon \nBrown Bag Lunch\nNYS Supreme Court\nDutchess County \n  \nFebruary 15\, 2024 12:00 pm \nmidhudsonwba@gmail.com
URL:https://www.wbasny.org/event/third-thursday-luncheon-mid-hudson-chapter-2/
END:VEVENT
BEGIN:VEVENT
DTSTART;TZID=America/New_York:20240215T120000
DTEND;TZID=America/New_York:20240215T133000
DTSTAMP:20260420T141443
CREATED:20240122T163059Z
LAST-MODIFIED:20240122T163059Z
UID:69936-1707998400-1708003800@www.wbasny.org
SUMMARY:Celebrate Judge Fogel's Appointment as Supervising Judge of the State Supreme Court Fifth Judicial District (Central New York Chapter)
DESCRIPTION:Registration online: http://events.constantcontact.com/register/event?llr=pf8peovab&oeidk=a07ek7wbxdc9daa6f6f
URL:https://www.wbasny.org/event/celebrate-judge-fogels-appointment-as-supervising-judge-of-the-state-supreme-court-fifth-judicial-district-central-new-york-chapter/
END:VEVENT
BEGIN:VEVENT
DTSTART;TZID=America/New_York:20240215T130000
DTEND;TZID=America/New_York:20240215T140000
DTSTAMP:20260420T141443
CREATED:20240119T210145Z
LAST-MODIFIED:20240119T210145Z
UID:69912-1708002000-1708005600@www.wbasny.org
SUMMARY:Queens Arts: An Immersive Art Experience (Queens Chapter)
DESCRIPTION:
URL:https://www.wbasny.org/event/queens-arts-an-immersive-art-experience-queens-chapter/
END:VEVENT
BEGIN:VEVENT
DTSTART;TZID=America/New_York:20240215T130000
DTEND;TZID=America/New_York:20240215T140000
DTSTAMP:20260420T141443
CREATED:20240129T152812Z
LAST-MODIFIED:20240129T152812Z
UID:70026-1708002000-1708005600@www.wbasny.org
SUMMARY:Lunch with Hon. Chambers (Brooklyn Chapter)
DESCRIPTION:RSVP to Lunch with a Judge
URL:https://www.wbasny.org/event/lunch-with-hon-chambers-brooklyn-chapter/
END:VEVENT
BEGIN:VEVENT
DTSTART;TZID=America/New_York:20240219T180000
DTEND;TZID=America/New_York:20240219T220000
DTSTAMP:20260420T141443
CREATED:20240129T154350Z
LAST-MODIFIED:20240129T154503Z
UID:70035-1708365600-1708380000@www.wbasny.org
SUMMARY:Talent Showcase Event (Central New York Chapter)
DESCRIPTION:Tickets on sale soon @Landmark Theatre Box office or online at www.ticketmaster.com
URL:https://www.wbasny.org/event/talent-showcase-event-central-new-york-chapter/
END:VEVENT
BEGIN:VEVENT
DTSTART;TZID=America/New_York:20240220T180000
DTEND;TZID=America/New_York:20240220T190000
DTSTAMP:20260420T141443
CREATED:20240108T212639Z
LAST-MODIFIED:20240108T212639Z
UID:69746-1708452000-1708455600@www.wbasny.org
SUMMARY:Book Club (Queens Chapter)
DESCRIPTION:  \nTuesday\, February 20\, 2024\, 6:00 p.m. \nChapter: Queens \nName of event: Book Club \nDescription of event: Tomorrow\, and Tomorrow\, and Tomorrow. A novel by Gabrielle Zevin \nHow will the event be held: In Person \nLocation: Portofino\, 109-32 Ascan Avenue\, Forest Hills\, NY \nCost of event: Members – free / Non-Members – $25 \nRegistration link: https://qcwba.org/qcwba-event/qcwba-book-club-february-8-2024/?mc_cid=930f28e6aa&mc_eid=70b5161317
URL:https://www.wbasny.org/event/book-club-queens-chapter/
END:VEVENT
BEGIN:VEVENT
DTSTART;TZID=America/New_York:20240220T180000
DTEND;TZID=America/New_York:20240220T190000
DTSTAMP:20260420T141443
CREATED:20240129T153135Z
LAST-MODIFIED:20240129T153135Z
UID:70030-1708452000-1708455600@www.wbasny.org
SUMMARY:The Art of Networking (New York Chapter)
DESCRIPTION:
URL:https://www.wbasny.org/event/the-art-of-networking-new-york-chapter/
END:VEVENT
BEGIN:VEVENT
DTSTART;TZID=America/New_York:20240221T180000
DTEND;TZID=America/New_York:20240221T193000
DTSTAMP:20260420T141443
CREATED:20240220T154539Z
LAST-MODIFIED:20240220T154539Z
UID:70279-1708538400-1708543800@www.wbasny.org
SUMMARY:CLE-What Can We Learn from Tax Returns? Part I: Personal Form 1040
DESCRIPTION:
URL:https://www.wbasny.org/event/cle-what-can-we-learn-from-tax-returns-part-i-personal-form-1040/
END:VEVENT
BEGIN:VEVENT
DTSTART;TZID=America/New_York:20240222T130000
DTEND;TZID=America/New_York:20240222T140000
DTSTAMP:20260420T141443
CREATED:20240119T210317Z
LAST-MODIFIED:20240119T210317Z
UID:69915-1708606800-1708610400@www.wbasny.org
SUMMARY:Then and Now: Blacks in the Court (Queens Chapter)
DESCRIPTION:
URL:https://www.wbasny.org/event/then-and-now-blacks-in-the-court-queens-chapter/
END:VEVENT
BEGIN:VEVENT
DTSTART;TZID=America/New_York:20240223T173000
DTEND;TZID=America/New_York:20240223T193000
DTSTAMP:20260420T141443
CREATED:20240214T153556Z
LAST-MODIFIED:20240214T153556Z
UID:70238-1708709400-1708716600@www.wbasny.org
SUMMARY:GRAWA's Annual "Wear Red for Go Red" Event
DESCRIPTION:GRAWA’s Annual “Wear Red for Go Red” Event \nJoin GRAWA’s Women’s Health Committee for a happy hour fundraiser to gather with friends and raise funds for the American Heart Association during Heart Month. A portion of all ticket sales will be donated to the AHA. Thank you to LegalMed for sponsoring this event. \n2/23/24 5:30pm – 7:30pm \nCost – $35 \nRegister Here \nContact Info – Jennifer Schauerman at info@grawa.org
URL:https://www.wbasny.org/event/grawas-annual-wear-red-for-go-red-event-2/
END:VEVENT
BEGIN:VEVENT
DTSTART;TZID=America/New_York:20240225T150000
DTEND;TZID=America/New_York:20240225T160000
DTSTAMP:20260420T141443
CREATED:20240111T181933Z
LAST-MODIFIED:20240111T181933Z
UID:69790-1708873200-1708876800@www.wbasny.org
SUMMARY:A Black History Month Reparations Symposium (Queens Chapter)
DESCRIPTION:
URL:https://www.wbasny.org/event/a-black-history-month-reparations-symposium-queens-chapter/
END:VEVENT
BEGIN:VEVENT
DTSTART;TZID=America/New_York:20240226T120000
DTEND;TZID=America/New_York:20240226T130000
DTSTAMP:20260420T141443
CREATED:20240212T163232Z
LAST-MODIFIED:20240212T163232Z
UID:70192-1708948800-1708952400@www.wbasny.org
SUMMARY:CLE- Workplace Rights for Pregnant Employees
DESCRIPTION:Register at https://www.law.buffalo.edu/cle/working-parent-series.html
URL:https://www.wbasny.org/event/cle-workplace-rights-for-pregnant-employees/
ORGANIZER;CN="Western New York Women's Bar Association":MAILTO:wbasnywny@gmail.com
END:VEVENT
BEGIN:VEVENT
DTSTART;TZID=America/New_York:20240227T130000
DTEND;TZID=America/New_York:20240227T140000
DTSTAMP:20260420T141443
CREATED:20240119T210450Z
LAST-MODIFIED:20240119T210450Z
UID:69918-1709038800-1709042400@www.wbasny.org
SUMMARY:Celebrating the African Diaspora (Queens Chapter)
DESCRIPTION:
URL:https://www.wbasny.org/event/celebrating-the-african-diaspora-queens-chapter/
END:VEVENT
BEGIN:VEVENT
DTSTART;TZID=America/New_York:20240227T130000
DTEND;TZID=America/New_York:20240227T140000
DTSTAMP:20260420T141443
CREATED:20240212T175616Z
LAST-MODIFIED:20240212T175616Z
UID:70199-1709038800-1709042400@www.wbasny.org
SUMMARY:CLE- Free Ethics
DESCRIPTION:
URL:https://www.wbasny.org/event/cle-free-ethics/
END:VEVENT
BEGIN:VEVENT
DTSTART;TZID=America/New_York:20240227T180000
DTEND;TZID=America/New_York:20240227T190000
DTSTAMP:20260420T141443
CREATED:20231030T145718Z
LAST-MODIFIED:20231030T145718Z
UID:68935-1709056800-1709060400@www.wbasny.org
SUMMARY:NY CLE Programs (Queens Chapter)
DESCRIPTION:
URL:https://www.wbasny.org/event/ny-cle-programs-queens-chapter-3/
END:VEVENT
BEGIN:VEVENT
DTSTART;TZID=America/New_York:20240227T180000
DTEND;TZID=America/New_York:20240227T190000
DTSTAMP:20260420T141443
CREATED:20240220T154741Z
LAST-MODIFIED:20240220T154741Z
UID:70282-1709056800-1709060400@www.wbasny.org
SUMMARY:CLE- How to Use the Power of Your Presence
DESCRIPTION:
URL:https://www.wbasny.org/event/cle-how-to-use-the-power-of-your-presence/
END:VEVENT
BEGIN:VEVENT
DTSTART;TZID=America/New_York:20240228T123000
DTEND;TZID=America/New_York:20240228T140000
DTSTAMP:20260420T141443
CREATED:20240223T151906Z
LAST-MODIFIED:20240223T151906Z
UID:70324-1709123400-1709128800@www.wbasny.org
SUMMARY:Lunchtime Chat Open Forum- Finding & Maintaining a Healthy Work/Life Balance
DESCRIPTION:Date: Wednesday\, February 28\, 2024 \nName of Event: LUNCHTIME CHAT OPEN FORUM 12:30-2pm.  This month’s topic is about finding & maintaining a healthy work/life balance. \nLocation: via zoom \nCost: Free \nDescription: Join the WBASNY Wellness Committee for an open discussion about how you maintain your work/life balance.  We are all different! Tell us what works and what doesn’t work for you. Come prepared to participate\, or to just seek support in knowing that you are not alone in doing all the hard things! This is an open forum event with the goal to support one another and maybe inspire each other. We hope that you can join us!
URL:https://www.wbasny.org/event/lunchtime-chat-open-forum-finding-maintaining-a-healthy-work-life-balance/
ORGANIZER;CN="WBASNY":MAILTO:events@wbasny.org
END:VEVENT
BEGIN:VEVENT
DTSTART;TZID=America/New_York:20240228T130000
DTEND;TZID=America/New_York:20240228T140000
DTSTAMP:20260420T141443
CREATED:20240220T154923Z
LAST-MODIFIED:20240220T154923Z
UID:70285-1709125200-1709128800@www.wbasny.org
SUMMARY:Guardianship and Fiduciary Clerk New York County Roundtable Practice Tips\, Court Processes and Procedures (New York Chapter)
DESCRIPTION:The Elder Law & Disabilities Committee\nLunch & Learn Series \nGuardianship Roundtable Series \n\nGuardianship and Fiduciary Clerk New York County Roundtable\nPractice tips\, court processes and procedures \nSpeakers:  \nClaire Vilsaint\, Fiduciary Clerk Supreme Court NY County\nYesenia Herrera\, Clerk-in-Charge Guardianship and Fiduciary Support Office – New York County\n \nFebruary 28\, 2024\, 1:00 pm by Zoom\nClick here for more info.
URL:https://www.wbasny.org/event/guardianship-and-fiduciary-clerk-new-york-county-roundtable-practice-tips-court-processes-and-procedures-new-york-chapter/
END:VEVENT
BEGIN:VEVENT
DTSTART;TZID=America/New_York:20240228T173000
DTEND;TZID=America/New_York:20240228T190000
DTSTAMP:20260420T141443
CREATED:20240123T210658Z
LAST-MODIFIED:20240123T210658Z
UID:69964-1709141400-1709146800@www.wbasny.org
SUMMARY:Happy Hour (Capital District Chapter)
DESCRIPTION:Feb 28\n\n\n\n  \n\n\n\n\nHappy Hour\n\n\n\n\n  \n\n\n\nJoin us for happy hour! Members and non-members invited. No entry cost. Cash bar. We hope to see you there! \n*Entrance to The Loft is located on State Street*\n\n\n\n\n\n\n\n\n\n\n\n\n\n\n\nThe Loft @205\n205 Lark St\, 2nd floor\, Albany\, NY 12210\nView on map\n\n\n\n  \n\n\n\n\n\n\n\n\n\n\n\n\nFeb 28\, 2024 05:30pm – Feb 28\, 2024 07:00pm \nAdd to Google · Outlook · Yahoo\n\n\n\n\n\n\nRSVP Here!
URL:https://www.wbasny.org/event/happy-hour-capital-district-chapter/
END:VEVENT
BEGIN:VEVENT
DTSTART;TZID=America/New_York:20240229T123000
DTEND;TZID=America/New_York:20240229T140000
DTSTAMP:20260420T141443
CREATED:20240221T204343Z
LAST-MODIFIED:20240221T204951Z
UID:70315-1709209800-1709215200@www.wbasny.org
SUMMARY:Lunch with Ref. Karen Johansen (Orange and Sullivan Chapter)
DESCRIPTION:The Women’s Bar Association of Orange and Sullivan Counties \nInvites you to \nLunch with a Judge Series \n  \nFebruary 29\, 2024 \nLunch with Ref. Karen Johansen \nRegistration Form \nhttps://form.jotform.com/240454465935159 \n12:30 PM – 2:00 PM \n$30 – Members | $35 – Non-Members \nRSVP Required
URL:https://www.wbasny.org/event/lunch-with-ref-karen-johansen-orange-and-sullivan-chapter/
END:VEVENT
BEGIN:VEVENT
DTSTART;TZID=America/New_York:20240229T130000
DTEND;TZID=America/New_York:20240229T140000
DTSTAMP:20260420T141443
CREATED:20240205T161001Z
LAST-MODIFIED:20240205T161001Z
UID:70114-1709211600-1709215200@www.wbasny.org
SUMMARY:NYWBA Animal Law Committee
DESCRIPTION:Feb 29\, 1:00 PM – NYWBA Animal Law Committee meeting by Zoom.  RSVP AnimalLaw@nywba.org.
URL:https://www.wbasny.org/event/nywba-animal-law-committee/
END:VEVENT
BEGIN:VEVENT
DTSTART;TZID=America/New_York:20240229T180000
DTEND;TZID=America/New_York:20240229T220000
DTSTAMP:20260420T141443
CREATED:20240117T222448Z
LAST-MODIFIED:20240117T222638Z
UID:69891-1709229600-1709244000@www.wbasny.org
SUMMARY:Harlem Nights in Queens (Queens Chapter)
DESCRIPTION:PURCHASE TICKETS HERE
URL:https://www.wbasny.org/event/harlem-nights-in-queens-queens-chapter/
END:VEVENT
BEGIN:VEVENT
DTSTART;TZID=America/New_York:20240304T180000
DTEND;TZID=America/New_York:20240304T200000
DTSTAMP:20260420T141443
CREATED:20240115T152315Z
LAST-MODIFIED:20240115T152315Z
UID:69807-1709575200-1709582400@www.wbasny.org
SUMMARY:NYWBA Annual Judicial Reception
DESCRIPTION:NYWBA Annual Judicial Reception \nNYWBA invites you to join us in honoring our special guests\, \nThe Newly Elected\, Newly Appointed\nand Re-Elected Judges of New York County  \nat a Cocktail Reception \nThe Yale Club\n50 Vanderbilt Avenue\nNew York\, NY \nMonday\, March 4\, 2024\n6:00 to 8:00 p.m. \n  \nREGISTER HERE
URL:https://www.wbasny.org/event/nywba-annual-judicial-reception-3/
END:VEVENT
BEGIN:VEVENT
DTSTART;TZID=America/New_York:20240305T130000
DTEND;TZID=America/New_York:20240305T140000
DTSTAMP:20260420T141443
CREATED:20240115T153843Z
LAST-MODIFIED:20240115T153843Z
UID:69818-1709643600-1709647200@www.wbasny.org
SUMMARY:CLE- Trusts and Estates Planning for Your Companion Animal
DESCRIPTION:The NYWBA Animal Rights\, Trusts and Estates\, \nand Elder Law Committees present a CLE Program:\n \nANIMAL LAW 101: \nTRUSTS AND ESTATES PLANNING FOR YOUR COMPANION ANIMAL\n \nThe second in a series! This program will help Trusts and Estates and Elder Law practitioners understand how to guide their clients (and themselves) in creating a complete Estate Plan\, one that addresses the companion animal’s needs.  As elder and estate experts\, you will discover questions you can ask your client that help design the future care of your client’s pet in the event of their illness or death.  Our speakers will provide attendees with the information needed to review elder and estate planning matters involving surviving companion animals.  The ASPCA and MAAP Plan tools are included\, which will assist trusts and estates and elder law attorneys easily plan for their clients’ companion animal needs. \n\nSPEAKERS: \n\nDeb Hamilton\, Esq.\, Hamilton Law and Mediation \nKelly A. Manning\, Esq.\, ASPCA’s Trusts and Estates Legal Department \nNicole Nahas\, Esq.\, ASPCA’s Trusts and Estates Legal Department \n\nMarch 5\, 2024\, 1:00 pm by Zoom\n \nClick here for more info and to RSVP.
URL:https://www.wbasny.org/event/cle-trusts-and-estates-planning-for-your-companion-animal/
END:VEVENT
BEGIN:VEVENT
DTSTART;TZID=America/New_York:20240305T130000
DTEND;TZID=America/New_York:20240305T140000
DTSTAMP:20260420T141443
CREATED:20240126T185841Z
LAST-MODIFIED:20240126T185841Z
UID:70012-1709643600-1709647200@www.wbasny.org
SUMMARY:Animal Law 101: Trusts and Estates for Your Companion Animal CLE
DESCRIPTION:Tuesday\, March 5\, 2024 – 1:00 p.m. \nChapter: New York \nName of Event: Animal Law 101: Trusts and Estates for Your Companion Animal CLE \nDescription of event: The second in a series! This program will help Trusts and Estates and Elder Law practitioners understand how to guide their clients (and themselves) in creating a complete Estate Plan\, one that addresses the companion animal’s needs. As elder and estate experts\, you will discover questions you can ask your client that help design the future care of your client’s pet in the event of their illness or death. Our speakers will provide attendees with the information needed to review elder and estate planning matters involving surviving companion animals. The ASPCA and MAAP Plan tools are included\, which will assist trusts and estates and elder law attorneys easily plan for their clients’ companion animal needs. \nHow will the program be held: Virtual  \nCost: Members – free / Non-Members – $25 \nRegistration link: https://www.nywba.org/events/cle-program-animal-law-101/1709661600/
URL:https://www.wbasny.org/event/animal-law-101-trusts-and-estates-for-your-companion-animal-cle/
END:VEVENT
BEGIN:VEVENT
DTSTART;TZID=America/New_York:20240306T130000
DTEND;TZID=America/New_York:20240306T140000
DTSTAMP:20260420T141443
CREATED:20240205T161248Z
LAST-MODIFIED:20240205T161248Z
UID:70118-1709730000-1709733600@www.wbasny.org
SUMMARY:CLE- Domestic Violence and Immigration: Loss of Status and other Dilemmas
DESCRIPTION:
URL:https://www.wbasny.org/event/cle-domestic-violence-and-immigration-loss-of-status-and-other-dilemmas/
END:VEVENT
BEGIN:VEVENT
DTSTART;TZID=America/New_York:20240306T173000
DTEND;TZID=America/New_York:20240306T193000
DTSTAMP:20260420T141443
CREATED:20240116T153019Z
LAST-MODIFIED:20240116T153019Z
UID:69821-1709746200-1709753400@www.wbasny.org
SUMMARY:Headshot Happy Hour (Western New York Chapter)
DESCRIPTION:
URL:https://www.wbasny.org/event/headshot-happy-hour-western-new-york-chapter/
ORGANIZER;CN="Western New York Women's Bar Association":MAILTO:wbasnywny@gmail.com
END:VEVENT
BEGIN:VEVENT
DTSTART;TZID=America/New_York:20240307T080000
DTEND;TZID=America/New_York:20240311T170000
DTSTAMP:20260420T141443
CREATED:20240308T155252Z
LAST-MODIFIED:20240308T155252Z
UID:70520-1709798400-1710176400@www.wbasny.org
SUMMARY:WBASNY Popcorn Fundraiser
DESCRIPTION:Get ready to bring the flavor and the fun! On behalf of the WBASNY Fundraising Committee\, we are thrilled to announce our upcoming popcorn fundraiser drive\, taking place from March 7th to March 11th. Through our partnership with the Doublegood Foundation\, we have launched a virtual Pop-up Store where you can indulge your popcorn cravings while simultaneously supporting Doublegood’s mission of aiding children with special needs. \nBut why participate? By supporting this fundraiser\, you’re not just enjoying delicious popcorn; you’re also contributing to WBASNY’s mission of advancing the rights and interests of women in the legal profession and in society at large. From promoting gender equality and women’s empowerment to raising awareness about critical issues facing women in the legal field\, your participation helps foster a more inclusive and equitable legal community. \nPrices for Signature Bags (5 cups each) start at $11\, and Curated Collections at $31. The popcorn is delicious and award-winning\, ensuring your supporters get a quality product while supporting a worthy cause. \nWe look forward to getting this FUNdraiser popping with your help! Together\, let’s make a difference and enjoy some tasty treats along the way. \n  \nSHOP HERE
URL:https://www.wbasny.org/event/wbasny-popcorn-fundraiser/
ORGANIZER;CN="WBASNY":MAILTO:events@wbasny.org
END:VEVENT
END:VCALENDAR