BEGIN:VCALENDAR
VERSION:2.0
PRODID:-//wbasny - ECPv6.15.20//NONSGML v1.0//EN
CALSCALE:GREGORIAN
METHOD:PUBLISH
X-WR-CALNAME:wbasny
X-ORIGINAL-URL:https://www.wbasny.org
X-WR-CALDESC:Events for wbasny
REFRESH-INTERVAL;VALUE=DURATION:PT1H
X-Robots-Tag:noindex
X-PUBLISHED-TTL:PT1H
BEGIN:VTIMEZONE
TZID:America/New_York
BEGIN:DAYLIGHT
TZOFFSETFROM:-0500
TZOFFSETTO:-0400
TZNAME:EDT
DTSTART:20220313T070000
END:DAYLIGHT
BEGIN:STANDARD
TZOFFSETFROM:-0400
TZOFFSETTO:-0500
TZNAME:EST
DTSTART:20221106T060000
END:STANDARD
BEGIN:DAYLIGHT
TZOFFSETFROM:-0500
TZOFFSETTO:-0400
TZNAME:EDT
DTSTART:20230312T070000
END:DAYLIGHT
BEGIN:STANDARD
TZOFFSETFROM:-0400
TZOFFSETTO:-0500
TZNAME:EST
DTSTART:20231105T060000
END:STANDARD
BEGIN:DAYLIGHT
TZOFFSETFROM:-0500
TZOFFSETTO:-0400
TZNAME:EDT
DTSTART:20240310T070000
END:DAYLIGHT
BEGIN:STANDARD
TZOFFSETFROM:-0400
TZOFFSETTO:-0500
TZNAME:EST
DTSTART:20241103T060000
END:STANDARD
END:VTIMEZONE
BEGIN:VEVENT
DTSTART;TZID=America/New_York:20230615T173000
DTEND;TZID=America/New_York:20230615T193000
DTSTAMP:20260420T174914
CREATED:20230511T154516Z
LAST-MODIFIED:20230511T154516Z
UID:66795-1686850200-1686857400@www.wbasny.org
SUMMARY:GRACE Scholarship/Diversity Clerk Event (Rochester Chapter)
DESCRIPTION:Thursday\, June 15\, 2023 5:30 PM – 7:30 PM EDT \nGRACE Scholarship/Diversity Clerk Event \nGRAWA invites Hon. Roy King Summer Diversity Clerks to GRAWA’s GRACE Scholarship Kickoff Event! \nRSVP to info@grawa.org
URL:https://www.wbasny.org/event/grace-scholarship-diversity-clerk-event-rochester-chapter/
END:VEVENT
BEGIN:VEVENT
DTSTART;TZID=America/New_York:20230615T173000
DTEND;TZID=America/New_York:20230615T183000
DTSTAMP:20260420T174914
CREATED:20230526T200659Z
LAST-MODIFIED:20230526T200659Z
UID:66903-1686850200-1686853800@www.wbasny.org
SUMMARY:Happy Hour Mixer with QCBA and NYSBA
DESCRIPTION:6/15/2023 @ 5:30pm: Happy Hour Mixer with QCBA and NYSBA\nAustin’s Ale House\nRegister Here.
URL:https://www.wbasny.org/event/happy-hour-mixer-with-qcba-and-nysba/
END:VEVENT
BEGIN:VEVENT
DTSTART;TZID=America/New_York:20230614T180000
DTEND;TZID=America/New_York:20230614T190000
DTSTAMP:20260420T174914
CREATED:20230606T144258Z
LAST-MODIFIED:20230608T144054Z
UID:67006-1686765600-1686769200@www.wbasny.org
SUMMARY:CLE- Domestic Violence Cases: Perspective From Various Practitioners\, The Court and Available Resources (Queens)
DESCRIPTION:
URL:https://www.wbasny.org/event/cle-domestic-violence-cases-perspective-from-various-practitioners-the-court-and-available-resources-queens/
END:VEVENT
BEGIN:VEVENT
DTSTART;TZID=America/New_York:20230614T173000
DTEND;TZID=America/New_York:20230614T183000
DTSTAMP:20260420T174914
CREATED:20230510T193654Z
LAST-MODIFIED:20230607T143253Z
UID:66790-1686763800-1686767400@www.wbasny.org
SUMMARY:Annual Dinner and Board Installation Honoring Children's Rights Society Inc. (Orange and Sullivan Chapter)
DESCRIPTION:Please join us for our \n  \nAnnual Dinner and Board Installation \n  \nhonoring  \n  \nChildren’s Rights Society\, Inc. \nRose Rosen Award Recipient \n  \nand \n  \nHonorable Robert A. Onofry \n Hon. Elaine Slobod Lifetime Achievement Award Recipient \n  \nWednesday\, June 14\, 2023 at 5:30pm \nThe Town of Wallkill Golf Club \n40 Sands Road\, Middletown\, New York \n  \nMembers $85 / Non-Members $100 \nKindly RSVP by June 7 to rsvp@wbaosc.org \n  \nMake checks payable to WBAOSC and mail to  \nWomen’s Bar Association\, PO Box 65\, Goshen\, New York 10924 \n  \n2023-2024 Officers \nCynthia Hand\, Esq.\, President \nEve Lincoln\, Esq.\, President-Elect \nLisa Noroian\, Esq.\, Vice President \nMegan Conroy\, Esq.\, Vice President \nAlexandra Bourne\, Esq.\, Vice President \nKristen Verrino\, Esq.\, Treasurer \nHon. Meagan Galligan\, Corresponding Secretary \nMeryl Levy\, Esq.\, Recording Secretary and Delegate to WBASNY \nRebecca Johnson\, Esq.\, Immediate Past President  \n  \nIf you would like to submit a journal ad  \nplease do so by no later than Wednesday\, June 7\, 2023 \nFull page $150.00; half page $80.00; quarter page $50.00 \nSend PDF to president@wbaosc.org \n  \n  \nWe hope you will join us!
URL:https://www.wbasny.org/event/annual-dinner-and-board-installation-honoring-childrens-rights-society-inc-orange-and-sullivans/
END:VEVENT
BEGIN:VEVENT
DTSTART;TZID=America/New_York:20230614T120000
DTEND;TZID=America/New_York:20230614T133000
DTSTAMP:20260420T174914
CREATED:20230606T145317Z
LAST-MODIFIED:20230606T145317Z
UID:67009-1686744000-1686749400@www.wbasny.org
SUMMARY:CLE- RCBA 15 Minute Voire Dire (Rockland Chapter)
DESCRIPTION:CLE:\n\nWHAT: RCBA 15 Minute Voire Dire\, 1.5 Skills credits\nWHEN: Tuesday\, June 14\, 2023 12:00-1:30 pm\nWHERE: Virtual\nCOST: $35.00 for RCBA Members via credit card only\n          $50.00 for RCBA Non-Members via credit card only\n$20.00 for Paralegals via credit card only\n \nRSVP: Click here to register no later than 5:00 pm Tuesday\, June 13
URL:https://www.wbasny.org/event/cle-rcba-15-minute-voire-dire-rockland-chapter/
END:VEVENT
BEGIN:VEVENT
DTSTART;TZID=America/New_York:20230613T180000
DTEND;TZID=America/New_York:20230613T190000
DTSTAMP:20260420T174914
CREATED:20230606T152934Z
LAST-MODIFIED:20230606T152934Z
UID:67034-1686679200-1686682800@www.wbasny.org
SUMMARY:Criminal Law Committee Spring Social (New York Chapter)
DESCRIPTION:Criminal Law Committee\nSpring Social \nTuesday\, June 13\, 2023 at 6pm at Mezcali. \nIn seeking to grow membership\, we ask that you bring a non-member of NYWBA and Criminal Law Committee with you to our spring social. \nRSVP to crimlawchairs@nywba.org. \nWe look forwarding to seeing you!
URL:https://www.wbasny.org/event/criminal-law-committee-spring-social-new-york-chapter/
END:VEVENT
BEGIN:VEVENT
DTSTART;TZID=America/New_York:20230613T180000
DTEND;TZID=America/New_York:20230613T190000
DTSTAMP:20260420T174914
CREATED:20230522T150133Z
LAST-MODIFIED:20230609T142517Z
UID:66874-1686679200-1686682800@www.wbasny.org
SUMMARY:2023-2024 Installation of Officers and Directors (Staten Island)
DESCRIPTION:  \n \n\n\n\n\nRSVP BY EMAIL
URL:https://www.wbasny.org/event/2023-2024-installation-of-officers-and-directors-staten-island/
END:VEVENT
BEGIN:VEVENT
DTSTART;TZID=America/New_York:20230612T180000
DTEND;TZID=America/New_York:20230612T190000
DTSTAMP:20260420T174914
CREATED:20230517T210109Z
LAST-MODIFIED:20230517T210109Z
UID:66838-1686592800-1686596400@www.wbasny.org
SUMMARY:QCWBA Book Club
DESCRIPTION:
URL:https://www.wbasny.org/event/qcwba-book-club/
END:VEVENT
BEGIN:VEVENT
DTSTART;TZID=America/New_York:20230612T180000
DTEND;TZID=America/New_York:20230612T190000
DTSTAMP:20260420T174914
CREATED:20230307T181345Z
LAST-MODIFIED:20230419T145014Z
UID:65816-1686592800-1686596400@www.wbasny.org
SUMMARY:Annual Awards and Installation Dinner (New York)
DESCRIPTION:Monday\, June 12\, 2023 6:00 pm \nChapter: New York \nName of event: Annual Awards and Installation Dinner \nHost(s): New York Women’s Bar Association \nLocation (if in person): Tribeca 36\, 10 Debrosses Street\, NYC \nhttps://www.nywba.org/2023-annual-dinner/
URL:https://www.wbasny.org/event/annual-awards-and-installation-dinner/
ORGANIZER;CN="WBASNY":MAILTO:events@wbasny.org
END:VEVENT
BEGIN:VEVENT
DTSTART;TZID=America/New_York:20230612T173000
DTEND;TZID=America/New_York:20230612T183000
DTSTAMP:20260420T174914
CREATED:20230503T200602Z
LAST-MODIFIED:20230503T200602Z
UID:66722-1686591000-1686594600@www.wbasny.org
SUMMARY:Mid-Hudson Annual Installation Dinner
DESCRIPTION:Monday\, June 12\, 2023 5:30 pm \nChapter: Mid-Hudson \nName of event: Annual Installation Dinner \nHow will the event be held: In-Person \nHost: Mid-Hudson Wonen’s Bar Association \nLocation: Savona’s Trattoria\, 1 Collegeview Avenue\, Poughkeepsie\, NY \nCost of event: $35 members / $45 non-members \nRegistration link: https://www.eventbrite.com/e/annual-installation-dinner-tickets-627086732297
URL:https://www.wbasny.org/event/mid-hudson-annual-installation-dinner/
END:VEVENT
BEGIN:VEVENT
DTSTART;TZID=America/New_York:20230612T120000
DTEND;TZID=America/New_York:20230612T130000
DTSTAMP:20260420T174914
CREATED:20230606T194744Z
LAST-MODIFIED:20230606T194744Z
UID:67049-1686571200-1686574800@www.wbasny.org
SUMMARY:First Annual Pride Justice Awards (Orange and Sullivan Chapter)
DESCRIPTION:
URL:https://www.wbasny.org/event/first-annual-pride-justice-awards-orange-and-sullivan-chapter/
END:VEVENT
BEGIN:VEVENT
DTSTART;TZID=America/New_York:20230611T100000
DTEND;TZID=America/New_York:20230611T130000
DTSTAMP:20260420T174914
CREATED:20230606T151154Z
LAST-MODIFIED:20230606T151154Z
UID:67020-1686477600-1686488400@www.wbasny.org
SUMMARY:The Annual Brandeis Association Scholarship Fund Brunch Honoring Hon. Jeffrey Lebowitz and Adam Orlow\, Esq. (Queens Chapter)
DESCRIPTION:
URL:https://www.wbasny.org/event/the-annual-brandeis-association-scholarship-fund-brunch-honoring-hon-jeffrey-lebowitz-and-adam-orlow-esq-queens-chapter/
END:VEVENT
BEGIN:VEVENT
DTSTART;TZID=America/New_York:20230610T120000
DTEND;TZID=America/New_York:20230610T150000
DTSTAMP:20260420T174914
CREATED:20230503T194925Z
LAST-MODIFIED:20230503T194925Z
UID:66719-1686398400-1686409200@www.wbasny.org
SUMMARY:WNY Family Fun Day
DESCRIPTION:To RSVP Visit trialacademy.org
URL:https://www.wbasny.org/event/wny-family-fun-day/
ORGANIZER;CN="Western New York Women's Bar Association":MAILTO:wbasnywny@gmail.com
END:VEVENT
BEGIN:VEVENT
DTSTART;TZID=America/New_York:20230608T173000
DTEND;TZID=America/New_York:20230608T183000
DTSTAMP:20260420T174914
CREATED:20230214T155835Z
LAST-MODIFIED:20230608T144536Z
UID:64995-1686245400-1686249000@www.wbasny.org
SUMMARY:RCWBA Annual Installation Dinner
DESCRIPTION:If you haven’t RSVP’d yet\, don’t worry! You can still attend tonight’s RCWBA Installation Dinner at 5:30 at Terrace on the Hudson in Haverstraw\, where we will be honoring Amy Baldwin Littman as the recipient of the Belle Mayer Zeck award. Just RSVP to this email and either prepay through this link or pay at the door. Hope to see you there!
URL:https://www.wbasny.org/event/rcwba-annual-dinner/
END:VEVENT
BEGIN:VEVENT
DTSTART;TZID=America/New_York:20230608T080000
DTEND;TZID=America/New_York:20230608T170000
DTSTAMP:20260420T174914
CREATED:20230504T140618Z
LAST-MODIFIED:20230504T140618Z
UID:66727-1686211200-1686243600@www.wbasny.org
SUMMARY:A Conversation with U.S District Judge Brenda Sannes (Central New York)
DESCRIPTION:
URL:https://www.wbasny.org/event/a-conversation-with-u-s-district-judge-brenda-sannes-central-new-york/
END:VEVENT
BEGIN:VEVENT
DTSTART;TZID=America/New_York:20230607T173000
DTEND;TZID=America/New_York:20230607T190000
DTSTAMP:20260420T174914
CREATED:20230503T194616Z
LAST-MODIFIED:20230503T194616Z
UID:66716-1686159000-1686164400@www.wbasny.org
SUMMARY:Maternal Mortality in Our Community (Western Chapter)
DESCRIPTION:
URL:https://www.wbasny.org/event/maternal-mortality-in-our-community-western-chapter/
ORGANIZER;CN="Western New York Women's Bar Association":MAILTO:wbasnywny@gmail.com
END:VEVENT
BEGIN:VEVENT
DTSTART;TZID=America/New_York:20230607T130000
DTEND;TZID=America/New_York:20230607T140000
DTSTAMP:20260420T174914
CREATED:20230606T150336Z
LAST-MODIFIED:20230606T150336Z
UID:67013-1686142800-1686146400@www.wbasny.org
SUMMARY:The Eight: The Lemmon Slave Case (Queens)
DESCRIPTION:
URL:https://www.wbasny.org/event/the-eight-the-lemmon-slave-case-queens/
END:VEVENT
BEGIN:VEVENT
DTSTART;TZID=America/New_York:20230602T080000
DTEND;TZID=America/New_York:20230604T170000
DTSTAMP:20260420T174914
CREATED:20230106T155655Z
LAST-MODIFIED:20230106T155655Z
UID:64590-1685692800-1685898000@www.wbasny.org
SUMMARY:2023 WBASNY Convention
DESCRIPTION:SAVE THE DATE \n2023 WBASNY CONVENTION
URL:https://www.wbasny.org/event/2023-wbasny-convention/
ORGANIZER;CN="WBASNY":MAILTO:events@wbasny.org
END:VEVENT
BEGIN:VEVENT
DTSTART;TZID=America/New_York:20230525T173000
DTEND;TZID=America/New_York:20230525T183000
DTSTAMP:20260420T174914
CREATED:20230510T150950Z
LAST-MODIFIED:20230510T150950Z
UID:66780-1685035800-1685039400@www.wbasny.org
SUMMARY:Association 2023 Honoree Dinner Celebration (Del-Chen-O)
DESCRIPTION:RSVP to Larisa Obolensky (Lobolenskylaw@gmail.com) \nMail payment to P.O. Box 494\, Delhi\, NY 13753 \nThank you to our sponsors \nCoughlin & Gerhart\, Counsel Press and Campbell Real Property \n 
URL:https://www.wbasny.org/event/association-2023-honoree-dinner-celebration-del-chen-o/
END:VEVENT
BEGIN:VEVENT
DTSTART;TZID=America/New_York:20230524T180000
DTEND;TZID=America/New_York:20230524T190000
DTSTAMP:20260420T174914
CREATED:20230419T143510Z
LAST-MODIFIED:20230419T143510Z
UID:66531-1684951200-1684954800@www.wbasny.org
SUMMARY:SCWBA 40th Annual Installation Dinner and Judiciary Night
DESCRIPTION:SCWBA Installation Invite 2023
URL:https://www.wbasny.org/event/scwba-40th-annual-installation-dinner-and-judiciary-night/
END:VEVENT
BEGIN:VEVENT
DTSTART;TZID=America/New_York:20230524T170000
DTEND;TZID=America/New_York:20230524T190000
DTSTAMP:20260420T174914
CREATED:20230426T145437Z
LAST-MODIFIED:20230426T145437Z
UID:66610-1684947600-1684954800@www.wbasny.org
SUMMARY:Have Gavel Will Travel (Western New York)
DESCRIPTION:Bar Association of Erie County\nJoin the Justices of the Appellate Division\, Fourth Department\, for a cocktail party honoring Justice Erin M. Peradotto.\nOrganized by the Bar Association of Erie County\, the Appellate Division\, Fourth Department\, Minority Bar Association of WNY\, WBASNY\, WNY\, the UB Law Alumni Association\, and the UB School of Law.\nSponsored by Counsel Press\, Hoover & Durland LLP\nRegister today at: https://eriebar.org/events/have-gavel-will-travel-reception/
URL:https://www.wbasny.org/event/have-gavel-will-travel-western-new-york/
ORGANIZER;CN="Western New York Women's Bar Association":MAILTO:wbasnywny@gmail.com
END:VEVENT
BEGIN:VEVENT
DTSTART;TZID=America/New_York:20230524T130000
DTEND;TZID=America/New_York:20230524T140000
DTSTAMP:20260420T174914
CREATED:20230503T152137Z
LAST-MODIFIED:20230503T152137Z
UID:66713-1684933200-1684936800@www.wbasny.org
SUMMARY:CLE-Security Deposits: What Attorneys Should Know to Protect Their Clients' Rights
DESCRIPTION:RSVP to Security Deposits CLE
URL:https://www.wbasny.org/event/cle-security-deposits-what-attorneys-should-know-to-protect-their-clients-rights-2/
END:VEVENT
BEGIN:VEVENT
DTSTART;TZID=America/New_York:20230524T123000
DTEND;TZID=America/New_York:20230524T133000
DTSTAMP:20260420T174914
CREATED:20230510T154132Z
LAST-MODIFIED:20230510T154132Z
UID:66787-1684931400-1684935000@www.wbasny.org
SUMMARY:CLE-Restorative Mediation
DESCRIPTION:WHAT: “Restorative Mediation”\nWHEN: Wednesday\, May 24\, 2023\, 12:30 pm – 1:30 pm\nWHERE: Virtual\nCOST: Free \nRSVP: Click here to register by May 23 \nPresenters:  Hon. James L. Hyer\, J.S.C. (Westchester Supreme Court); Hon. Debra A. Martin\, A.S.C.J. (Court of Claims); Duke Fisher (Mediator\, Trainer\, Instructor at Albany Law School)
URL:https://www.wbasny.org/event/cle-restorative-mediation/
END:VEVENT
BEGIN:VEVENT
DTSTART;TZID=America/New_York:20230524T120000
DTEND;TZID=America/New_York:20230524T130000
DTSTAMP:20260420T174914
CREATED:20230501T154910Z
LAST-MODIFIED:20230501T154910Z
UID:66674-1684929600-1684933200@www.wbasny.org
SUMMARY:CLE-Appellate Practice in the First Department (New York Chapter)
DESCRIPTION:The CLE Committee presest a CLE Program \nAppellate Practice in the First Department \nSpeakers:\nHon. Tanya Kennedy and Hon. Julio Rodriguez \nModerator:\nHon. Judith J. Gische\n \nMay 24\, 2023\, 12:00 p.m.\, by Zoom \nClick here for more info and to RSVP.
URL:https://www.wbasny.org/event/cle-appellate-practice-in-the-first-department-new-york-chapter/
END:VEVENT
BEGIN:VEVENT
DTSTART;TZID=America/New_York:20230523T130000
DTEND;TZID=America/New_York:20230523T140000
DTSTAMP:20260420T174914
CREATED:20230517T204816Z
LAST-MODIFIED:20230517T204816Z
UID:66836-1684846800-1684850400@www.wbasny.org
SUMMARY:CLE-Women in the Courts: Charging Forward
DESCRIPTION:Equal Opportunity \nin the Profession Committee \npresents \n\n\nWomen in the Courts: \nCharging Forward \n\n\nMay 23\, 2023 \n\n1:00 – 2:00 pm \n\nThe panel will include a facilitated discussion on the presence and impact of women in the courts\, updates the speakers have to offer\, as well as ideas for how WBASNY members can take action to improve the presence and impact of women in courts. The main topics that will be touched upon are i) Challenges Facing Female Judges and Court Personnel\, ii) Challenges Facing Female Litigators in the Courtroom\, iii) Challenges Facing Female Litigants\, iv) Looking Ahead\, Advice for female attorneys navigating the Courts\, the role of mentors and sponsors in forwarding progress for women in the profession and the role of judges and local gender fairness committees regarding advancing women in the courts. \n  \n  \n1.0 CLE Credits \n(1.0 Ethics & Professionalism)\n(Transitional / Non-Transitional) \n  \nCost:\nFree to Members \nNon-Members – $40\n \n  \n \n  \nProgram Facilitator: \nHinckley Allen’s Women Forum (sponsor)
URL:https://www.wbasny.org/event/cle-women-in-the-courts-charging-forward/
ORGANIZER;CN="WBASNY":MAILTO:events@wbasny.org
END:VEVENT
BEGIN:VEVENT
DTSTART;TZID=America/New_York:20230523T120000
DTEND;TZID=America/New_York:20230523T130000
DTSTAMP:20260420T174914
CREATED:20230303T180915Z
LAST-MODIFIED:20230316T171819Z
UID:65755-1684843200-1684846800@www.wbasny.org
SUMMARY:Lunch with Hon. Jacqueline Ricciani\, Hon. Meagan Galligan and Support Magistrate Hannah Prall (Orange and Sullivan)
DESCRIPTION:Lunch with Judge Jacqueline Ricciani\,  \nJudge Meagan Galligan\, and  \nSupport Magistrate Hannah Prall \nMay 23\, Albella’s\, Monticello
URL:https://www.wbasny.org/event/lunch-with-hon-jacqueline-ricciani-hon-meagan-galligan-and-support-magistrate-hannah-prall/
END:VEVENT
BEGIN:VEVENT
DTSTART;TZID=America/New_York:20230522T173000
DTEND;TZID=America/New_York:20230522T200000
DTSTAMP:20260420T174914
CREATED:20230503T151854Z
LAST-MODIFIED:20230503T151854Z
UID:66710-1684776600-1684785600@www.wbasny.org
SUMMARY:Brooklyn Heights Historic Scavenger Hunt
DESCRIPTION:RSVP to BWBA Scavenger Hunt
URL:https://www.wbasny.org/event/brooklyn-heights-historic-scavenger-hunt/
END:VEVENT
BEGIN:VEVENT
DTSTART;TZID=America/New_York:20230518T170000
DTEND;TZID=America/New_York:20230518T180000
DTSTAMP:20260420T174914
CREATED:20230216T204019Z
LAST-MODIFIED:20230412T172612Z
UID:65016-1684429200-1684432800@www.wbasny.org
SUMMARY:BWBA Annual Gala (Brooklyn)
DESCRIPTION:Brooklyn Chapter \n \n \n\n\n\n\nJoin us for the Brooklyn Women’s Bar Association 2023 Gala\, Thursday\, May 18\, 2022\, 6:00 pm at The Liberty Warehouse. Visit the “BWBA GALA 2023” page to Register: HERE. \nGala Journal Advertisements and Sponsorships Deadline is 5/5
URL:https://www.wbasny.org/event/bwba-annual-gala/
END:VEVENT
BEGIN:VEVENT
DTSTART;TZID=America/New_York:20230518T120000
DTEND;TZID=America/New_York:20230518T130000
DTSTAMP:20260420T174914
CREATED:20230510T194015Z
LAST-MODIFIED:20230510T194015Z
UID:66792-1684411200-1684414800@www.wbasny.org
SUMMARY:Mid-York Women's Bar Association Lunch Social
DESCRIPTION:
URL:https://www.wbasny.org/event/mid-york-womens-bar-association-lunch-social/
END:VEVENT
BEGIN:VEVENT
DTSTART;TZID=America/New_York:20230517T180000
DTEND;TZID=America/New_York:20230517T190000
DTSTAMP:20260420T174914
CREATED:20230501T154754Z
LAST-MODIFIED:20230501T154754Z
UID:66671-1684346400-1684350000@www.wbasny.org
SUMMARY:"Equity in Action" Speaker Series (New York Chapter)
DESCRIPTION:
URL:https://www.wbasny.org/event/equity-in-action-speaker-series-new-york-chapter/
END:VEVENT
END:VCALENDAR