BEGIN:VCALENDAR
VERSION:2.0
PRODID:-//wbasny - ECPv6.15.20//NONSGML v1.0//EN
CALSCALE:GREGORIAN
METHOD:PUBLISH
X-WR-CALNAME:wbasny
X-ORIGINAL-URL:https://www.wbasny.org
X-WR-CALDESC:Events for wbasny
REFRESH-INTERVAL;VALUE=DURATION:PT1H
X-Robots-Tag:noindex
X-PUBLISHED-TTL:PT1H
BEGIN:VTIMEZONE
TZID:UTC
BEGIN:STANDARD
TZOFFSETFROM:+0000
TZOFFSETTO:+0000
TZNAME:UTC
DTSTART:20180101T000000
END:STANDARD
END:VTIMEZONE
BEGIN:VEVENT
DTSTART;TZID=UTC:20190801T183000
DTEND;TZID=UTC:20190801T223000
DTSTAMP:20260425T163731
CREATED:20190627T230019Z
LAST-MODIFIED:20190702T010254Z
UID:46816-1564684200-1564698600@www.wbasny.org
SUMMARY:All Aboard The Skyline Princess
DESCRIPTION:Queens Chapter
URL:https://www.wbasny.org/event/queens-county-womens-bar-association-all-aboard-the-skyline-princess-on-august-1st/
LOCATION:World’s Fair Marina\, 1 Marina Road\, Flushing\, NY\, 11368
END:VEVENT
BEGIN:VEVENT
DTSTART;TZID=UTC:20190804T080000
DTEND;TZID=UTC:20190807T170000
DTSTAMP:20260425T163731
CREATED:20190708T203001Z
LAST-MODIFIED:20190708T203005Z
UID:46916-1564905600-1565197200@www.wbasny.org
SUMMARY:Trial Lawyers Section Summer Meeting Aug 4-7
DESCRIPTION:Western New York Chapter
URL:https://www.wbasny.org/event/trial-lawyers-section-summer-meeting-aug-4-7/
ORGANIZER;CN="Western New York Women's Bar Association":MAILTO:wbasnywny@gmail.com
END:VEVENT
BEGIN:VEVENT
DTSTART;TZID=UTC:20190806T130000
DTEND;TZID=UTC:20190806T140000
DTSTAMP:20260425T163731
CREATED:20190522T191627Z
LAST-MODIFIED:20190717T011033Z
UID:46330-1565096400-1565100000@www.wbasny.org
SUMMARY:Officers Conference Call
DESCRIPTION:WBASNY
URL:https://www.wbasny.org/event/officers-conference-call-4/
LOCATION:Teleconference
ORGANIZER;CN="WBASNY":MAILTO:events@wbasny.org
END:VEVENT
BEGIN:VEVENT
DTSTART;TZID=UTC:20190808T120000
DTEND;TZID=UTC:20190808T130000
DTSTAMP:20260425T163731
CREATED:20190730T003031Z
LAST-MODIFIED:20190730T003031Z
UID:47272-1565265600-1565269200@www.wbasny.org
SUMMARY:A Chamber Chat with Hon. Suzanne Maxwell Barnes
DESCRIPTION:Western New York Chapter
URL:https://www.wbasny.org/event/a-chamber-chat-with-hon-suzanne-maxwell-barnes/
ORGANIZER;CN="Western New York Women's Bar Association":MAILTO:wbasnywny@gmail.com
END:VEVENT
BEGIN:VEVENT
DTSTART;TZID=UTC:20190809T080000
DTEND;TZID=UTC:20190809T090000
DTSTAMP:20260425T163731
CREATED:20190730T002156Z
LAST-MODIFIED:20190730T002202Z
UID:47261-1565337600-1565341200@www.wbasny.org
SUMMARY:How to Host a Political Event
DESCRIPTION:Western New York Chapter
URL:https://www.wbasny.org/event/how-to-host-a-political-event/
ORGANIZER;CN="Western New York Women's Bar Association":MAILTO:wbasnywny@gmail.com
END:VEVENT
BEGIN:VEVENT
DTSTART;TZID=UTC:20190810T110000
DTEND;TZID=UTC:20190810T120000
DTSTAMP:20260425T163731
CREATED:20190716T184056Z
LAST-MODIFIED:20190716T184059Z
UID:47021-1565434800-1565438400@www.wbasny.org
SUMMARY:Golf Lesson
DESCRIPTION:Western New York Chapter
URL:https://www.wbasny.org/event/golf-lesson/
ORGANIZER;CN="Western New York Women's Bar Association":MAILTO:wbasnywny@gmail.com
END:VEVENT
BEGIN:VEVENT
DTSTART;TZID=UTC:20190814T123000
DTEND;TZID=UTC:20190814T143000
DTSTAMP:20260425T163731
CREATED:20190806T201704Z
LAST-MODIFIED:20190806T201708Z
UID:47322-1565785800-1565793000@www.wbasny.org
SUMMARY:Working Parents Committee Meeting
DESCRIPTION:Western New York Chapter
URL:https://www.wbasny.org/event/working-parents-committee-meeting/
ORGANIZER;CN="Western New York Women's Bar Association":MAILTO:wbasnywny@gmail.com
END:VEVENT
BEGIN:VEVENT
DTSTART;TZID=UTC:20190815T170000
DTEND;TZID=UTC:20190815T190000
DTSTAMP:20260425T163731
CREATED:20190730T010614Z
LAST-MODIFIED:20190730T010620Z
UID:47290-1565888400-1565895600@www.wbasny.org
SUMMARY:Minority Bar Foundation\, Inc. 37th Annual Scholarship Reception & Awards Ceremony
DESCRIPTION:Western New York Chapter
URL:https://www.wbasny.org/event/minority-bar-foundation-inc-37th-annual-scholarship-reception-awards-ceremony/
ORGANIZER;CN="Western New York Women's Bar Association":MAILTO:wbasnywny@gmail.com
END:VEVENT
BEGIN:VEVENT
DTSTART;TZID=UTC:20190816T073000
DTEND;TZID=UTC:20190816T103000
DTSTAMP:20260425T163731
CREATED:20190806T202537Z
LAST-MODIFIED:20190806T202541Z
UID:47329-1565940600-1565951400@www.wbasny.org
SUMMARY:Pay Equity Working Group - First Meeting
DESCRIPTION:Western New York Chapter
URL:https://www.wbasny.org/event/pay-equity-working-group-first-meeting/
ORGANIZER;CN="Western New York Women's Bar Association":MAILTO:wbasnywny@gmail.com
END:VEVENT
BEGIN:VEVENT
DTSTART;TZID=UTC:20190817T110000
DTEND;TZID=UTC:20190817T190000
DTSTAMP:20260425T163731
CREATED:20190812T202613Z
LAST-MODIFIED:20190812T202617Z
UID:47393-1566039600-1566068400@www.wbasny.org
SUMMARY:Buffalo's Biggest Basket Raffle
DESCRIPTION:Western New York Chapter
URL:https://www.wbasny.org/event/buffalos-biggest-basket-raffle/
LOCATION:Buffalo Riverworks\, 359 Ganson Street\, Buffalo\, NY\, 14203
ORGANIZER;CN="Western New York Women's Bar Association":MAILTO:wbasnywny@gmail.com
END:VEVENT
BEGIN:VEVENT
DTSTART;TZID=UTC:20190822T170000
DTEND;TZID=UTC:20190822T200000
DTSTAMP:20260425T163731
CREATED:20190730T004135Z
LAST-MODIFIED:20190819T230018Z
UID:47276-1566493200-1566504000@www.wbasny.org
SUMMARY:Power of Attorney Clinic
DESCRIPTION:Western New York Chapter
URL:https://www.wbasny.org/event/volunteers-needed-for-power-of-attorney-clinic/
ORGANIZER;CN="Western New York Women's Bar Association":MAILTO:wbasnywny@gmail.com
END:VEVENT
BEGIN:VEVENT
DTSTART;TZID=UTC:20190826T180000
DTEND;TZID=UTC:20190826T193000
DTSTAMP:20260425T163731
CREATED:20190710T191329Z
LAST-MODIFIED:20190823T004308Z
UID:46969-1566842400-1566847800@www.wbasny.org
SUMMARY:A Conversation with Hon. Ruth Bader Ginsburg
DESCRIPTION:Western New York Chapter
URL:https://www.wbasny.org/event/ticket-information-for-rbgs-visit-to-buffalo/
LOCATION:Kleinhans Music Hall
ORGANIZER;CN="Western New York Women's Bar Association":MAILTO:wbasnywny@gmail.com
END:VEVENT
BEGIN:VEVENT
DTSTART;TZID=UTC:20190827T180000
DTEND;TZID=UTC:20190827T210000
DTSTAMP:20260425T163731
CREATED:20190806T204020Z
LAST-MODIFIED:20190806T204027Z
UID:47336-1566928800-1566939600@www.wbasny.org
SUMMARY:Mentorship Meeting
DESCRIPTION:Orange -Sullivan Chapter \nSh
URL:https://www.wbasny.org/event/mentorship-meeting/
END:VEVENT
BEGIN:VEVENT
DTSTART;TZID=UTC:20190829T173000
DTEND;TZID=UTC:20190829T190000
DTSTAMP:20260425T163731
CREATED:20190730T004822Z
LAST-MODIFIED:20190730T004825Z
UID:47283-1567099800-1567105200@www.wbasny.org
SUMMARY:Summer Book Club Meeting
DESCRIPTION:Western New York Chapter
URL:https://www.wbasny.org/event/summer-book-club-meeting/
ORGANIZER;CN="Western New York Women's Bar Association":MAILTO:wbasnywny@gmail.com
END:VEVENT
END:VCALENDAR