BEGIN:VCALENDAR
VERSION:2.0
PRODID:-//wbasny - ECPv6.15.20//NONSGML v1.0//EN
CALSCALE:GREGORIAN
METHOD:PUBLISH
X-WR-CALNAME:wbasny
X-ORIGINAL-URL:https://www.wbasny.org
X-WR-CALDESC:Events for wbasny
REFRESH-INTERVAL;VALUE=DURATION:PT1H
X-Robots-Tag:noindex
X-PUBLISHED-TTL:PT1H
BEGIN:VTIMEZONE
TZID:America/New_York
BEGIN:DAYLIGHT
TZOFFSETFROM:-0500
TZOFFSETTO:-0400
TZNAME:EDT
DTSTART:20190310T070000
END:DAYLIGHT
BEGIN:STANDARD
TZOFFSETFROM:-0400
TZOFFSETTO:-0500
TZNAME:EST
DTSTART:20191103T060000
END:STANDARD
BEGIN:DAYLIGHT
TZOFFSETFROM:-0500
TZOFFSETTO:-0400
TZNAME:EDT
DTSTART:20200308T070000
END:DAYLIGHT
BEGIN:STANDARD
TZOFFSETFROM:-0400
TZOFFSETTO:-0500
TZNAME:EST
DTSTART:20201101T060000
END:STANDARD
BEGIN:DAYLIGHT
TZOFFSETFROM:-0500
TZOFFSETTO:-0400
TZNAME:EDT
DTSTART:20210314T070000
END:DAYLIGHT
BEGIN:STANDARD
TZOFFSETFROM:-0400
TZOFFSETTO:-0500
TZNAME:EST
DTSTART:20211107T060000
END:STANDARD
END:VTIMEZONE
BEGIN:VTIMEZONE
TZID:UTC
BEGIN:STANDARD
TZOFFSETFROM:+0000
TZOFFSETTO:+0000
TZNAME:UTC
DTSTART:20190101T000000
END:STANDARD
END:VTIMEZONE
BEGIN:VEVENT
DTSTART;TZID=America/New_York:20200403T083000
DTEND;TZID=America/New_York:20200403T100000
DTSTAMP:20260423T120627
CREATED:20200309T150329Z
LAST-MODIFIED:20200309T150329Z
UID:50466-1585902600-1585908000@www.wbasny.org
SUMMARY:Burn Out is Real!
DESCRIPTION:Western New York
URL:https://www.wbasny.org/event/burn-out-is-real-2/
LOCATION:Clement House (Red Cross/BPO)\, 756 Delaware Avenue\, Buffalo\, NY\, 14209
ORGANIZER;CN="Western New York Women's Bar Association":MAILTO:wbasnywny@gmail.com
END:VEVENT
BEGIN:VEVENT
DTSTART;TZID=UTC:20200407T171500
DTEND;TZID=UTC:20200407T191500
DTSTAMP:20260423T120627
CREATED:20190522T195138Z
LAST-MODIFIED:20200206T232253Z
UID:46356-1586279700-1586286900@www.wbasny.org
SUMMARY:Officers Conference Call
DESCRIPTION:WBASNY \n 
URL:https://www.wbasny.org/event/officers-conference-call-9/
LOCATION:Teleconference
ORGANIZER;CN="WBASNY":MAILTO:events@wbasny.org
END:VEVENT
BEGIN:VEVENT
DTSTART;TZID=America/New_York:20200408T173000
DTEND;TZID=America/New_York:20200408T190000
DTSTAMP:20260423T120627
CREATED:20190930T213920Z
LAST-MODIFIED:20190930T213926Z
UID:48334-1586367000-1586372400@www.wbasny.org
SUMMARY:Diverse Voices Series- Kite Runner By Khaled Hosseini
DESCRIPTION:Western New York Chapter
URL:https://www.wbasny.org/event/diverse-voices-series-kite-runner-by-khaled-hosseini/
LOCATION:Coco Bar and Bistro\, 888 Main Street\, Buffalo\, NY\, 14202\, United States
ORGANIZER;CN="Western New York Women's Bar Association":MAILTO:wbasnywny@gmail.com
END:VEVENT
BEGIN:VEVENT
DTSTART;TZID=America/New_York:20200413T083000
DTEND;TZID=America/New_York:20200413T100000
DTSTAMP:20260423T120627
CREATED:20200224T162158Z
LAST-MODIFIED:20200224T162210Z
UID:50274-1586766600-1586772000@www.wbasny.org
SUMMARY:Burn Out Is Real!
DESCRIPTION:Western New York Chapter
URL:https://www.wbasny.org/event/burn-out-is-real/
LOCATION:Clement House (Red Cross/BPO)\, 756 Delaware Avenue\, Buffalo\, NY\, 14209
ORGANIZER;CN="Western New York Women's Bar Association":MAILTO:wbasnywny@gmail.com
END:VEVENT
BEGIN:VEVENT
DTSTART;VALUE=DATE:20200421
DTEND;VALUE=DATE:20200422
DTSTAMP:20260423T120627
CREATED:20191009T204933Z
LAST-MODIFIED:20191009T204933Z
UID:48495-1587427200-1587513599@www.wbasny.org
SUMMARY:Lobby Day
DESCRIPTION:
URL:https://www.wbasny.org/event/lobby-day/
END:VEVENT
BEGIN:VEVENT
DTSTART;TZID=America/New_York:20200422T183000
DTEND;TZID=America/New_York:20200422T200000
DTSTAMP:20260423T120627
CREATED:20200313T201558Z
LAST-MODIFIED:20200313T201558Z
UID:50543-1587580200-1587585600@www.wbasny.org
SUMMARY:Sweet Success Reception
DESCRIPTION:Greater Rochester
URL:https://www.wbasny.org/event/sweet-success-reception/
LOCATION:NATIVE Eatery and Bar\, 180 South Clinton Avenue\, Rochester\, NY\, 14604\, United States
END:VEVENT
BEGIN:VEVENT
DTSTART;TZID=America/New_York:20200423T173000
DTEND;TZID=America/New_York:20200423T203000
DTSTAMP:20260423T120627
CREATED:20200212T213525Z
LAST-MODIFIED:20200212T214550Z
UID:50104-1587663000-1587673800@www.wbasny.org
SUMMARY:Annual Dinner and Awards
DESCRIPTION:Orange-Sullivan Counties Chapter
URL:https://www.wbasny.org/event/annual-dinner-and-awards/
LOCATION:Palacio\, 1 Municipal Plaza\, Goshen\, NY
END:VEVENT
BEGIN:VEVENT
DTSTART;TZID=America/New_York:20200427T180000
DTEND;TZID=America/New_York:20200427T210000
DTSTAMP:20260423T120627
CREATED:20200309T144012Z
LAST-MODIFIED:20200309T144012Z
UID:50452-1588010400-1588021200@www.wbasny.org
SUMMARY:Judges & Lawyers Breast Cancer Alert
DESCRIPTION:Queens
URL:https://www.wbasny.org/event/judges-lawyers-breast-cancer-alert-3/
LOCATION:The Ziegfeld Ballroom\, 141 West 54th Street\, New York\, NY\, 10019
END:VEVENT
BEGIN:VEVENT
DTSTART;TZID=UTC:20200428T090000
DTEND;TZID=UTC:20200428T120000
DTSTAMP:20260423T120627
CREATED:20190522T195426Z
LAST-MODIFIED:20190522T195426Z
UID:46359-1588064400-1588075200@www.wbasny.org
SUMMARY:Officers Meeting
DESCRIPTION:WBASNY \n 
URL:https://www.wbasny.org/event/officers-meeting-12/
LOCATION:Hotel Beacon\, 2130 Broadway\, New York\, NY\, 10023\, United States
ORGANIZER;CN="WBASNY":MAILTO:events@wbasny.org
END:VEVENT
BEGIN:VEVENT
DTSTART;TZID=America/New_York:20200428T173000
DTEND;TZID=America/New_York:20200428T190000
DTSTAMP:20260423T120627
CREATED:20200127T183708Z
LAST-MODIFIED:20200127T183710Z
UID:49935-1588095000-1588100400@www.wbasny.org
SUMMARY:The Five: The Untold Lives of the Women Killed by Jack the Ripper\, by Hallie Rubenhold
DESCRIPTION:Orange-Sullivan Counties Chapter
URL:https://www.wbasny.org/event/the-five-the-untold-lives-of-the-women-killed-by-jack-the-ripper-by-hallie-rubenhold/
LOCATION:Old Erie Pub\, 7 West Main Street\, Middletown\, NY\, 10940
END:VEVENT
BEGIN:VEVENT
DTSTART;TZID=America/New_York:20200429T173000
DTEND;TZID=America/New_York:20200429T210000
DTSTAMP:20260423T120627
CREATED:20200212T215254Z
LAST-MODIFIED:20200212T215254Z
UID:50108-1588181400-1588194000@www.wbasny.org
SUMMARY:Save The Date
DESCRIPTION:Del-Chen-O Chapter
URL:https://www.wbasny.org/event/save-the-date-2/
LOCATION:The Autumn Cafe\, 244 Main Street\, Oneonta\, NY\, 13820
END:VEVENT
END:VCALENDAR