BEGIN:VCALENDAR
VERSION:2.0
PRODID:-//wbasny - ECPv6.15.20//NONSGML v1.0//EN
CALSCALE:GREGORIAN
METHOD:PUBLISH
X-ORIGINAL-URL:https://www.wbasny.org
X-WR-CALDESC:Events for wbasny
REFRESH-INTERVAL;VALUE=DURATION:PT1H
X-Robots-Tag:noindex
X-PUBLISHED-TTL:PT1H
BEGIN:VTIMEZONE
TZID:America/New_York
BEGIN:DAYLIGHT
TZOFFSETFROM:-0500
TZOFFSETTO:-0400
TZNAME:EDT
DTSTART:20190310T070000
END:DAYLIGHT
BEGIN:STANDARD
TZOFFSETFROM:-0400
TZOFFSETTO:-0500
TZNAME:EST
DTSTART:20191103T060000
END:STANDARD
BEGIN:DAYLIGHT
TZOFFSETFROM:-0500
TZOFFSETTO:-0400
TZNAME:EDT
DTSTART:20200308T070000
END:DAYLIGHT
BEGIN:STANDARD
TZOFFSETFROM:-0400
TZOFFSETTO:-0500
TZNAME:EST
DTSTART:20201101T060000
END:STANDARD
BEGIN:DAYLIGHT
TZOFFSETFROM:-0500
TZOFFSETTO:-0400
TZNAME:EDT
DTSTART:20210314T070000
END:DAYLIGHT
BEGIN:STANDARD
TZOFFSETFROM:-0400
TZOFFSETTO:-0500
TZNAME:EST
DTSTART:20211107T060000
END:STANDARD
END:VTIMEZONE
BEGIN:VEVENT
DTSTART;TZID=America/New_York:20200805T130000
DTEND;TZID=America/New_York:20200805T140000
DTSTAMP:20260423T041013
CREATED:20200622T150554Z
LAST-MODIFIED:20200622T150554Z
UID:51824-1596632400-1596636000@www.wbasny.org
SUMMARY:Lunch with a Judge Series
DESCRIPTION:Brooklyn Chapter
URL:https://www.wbasny.org/event/lunch-with-a-judge-series-2/
END:VEVENT
BEGIN:VEVENT
DTSTART;TZID=America/New_York:20200806T130000
DTEND;TZID=America/New_York:20200806T140000
DTSTAMP:20260423T041013
CREATED:20200727T163959Z
LAST-MODIFIED:20200727T163959Z
UID:51979-1596718800-1596722400@www.wbasny.org
SUMMARY:Zoom Lunch with Hon. Jenny Rivera
DESCRIPTION:Bronx Chapter
URL:https://www.wbasny.org/event/zoom-lunch-with-hon-jenny-rivera/
END:VEVENT
BEGIN:VEVENT
DTSTART;TZID=America/New_York:20200806T190000
DTEND;TZID=America/New_York:20200806T200000
DTSTAMP:20260423T041013
CREATED:20200804T191120Z
LAST-MODIFIED:20200804T191120Z
UID:52013-1596740400-1596744000@www.wbasny.org
SUMMARY:Ordinary Injustice: How America Holds Court
DESCRIPTION:Rochester Chapter \nThe next Forum event will spotlight the book\, Ordinary Injustice: How America Holds Court\, by Amy Bach\, and feature a panel of women who can speak on the subject of injustice in the American judicial system. Participants are not required to purchase a book for this program\, however it can be an educational resource for those that would like to learn more on the topic.\nOur panelists will be: \n\nAmy Bach\, author of Ordinary Injustice\nProfessor Sarah Deer Esq\, NWHF Inductee\, Professor and renowned author\, activist and champion for the rights of indigenous women\nShani Mitchell Esq. is a lifelong public servant and has spent many years as a prosecutor in Rochester and in Atlanta\nMridula Raman Esq. joins us from Berkeley Law’s Death Penalty Clinic after five years as an Assistant Federal Public Defender in the Capital Habeas Unit of the Office of the Federal Public Defender for the District of Arizona.\n\nTO REGISTER: https://www.womenofthehall.org/shop/nwhf-forum-ordinary-injustice-how-america-holds-court-virtual-event-thursday-august-6th-700-est/
URL:https://www.wbasny.org/event/ordinary-injustice-how-america-holds-court/
END:VEVENT
BEGIN:VEVENT
DTSTART;TZID=America/New_York:20200807T090000
DTEND;TZID=America/New_York:20200807T100000
DTSTAMP:20260423T041013
CREATED:20200804T185532Z
LAST-MODIFIED:20200804T185532Z
UID:52009-1596790800-1596794400@www.wbasny.org
SUMMARY:The Art of Suffrage: Struggle\, Sacrifice and Success
DESCRIPTION:Western New York Chapter \nIt took nearly 100 years of persistence and passion for women to gain the vote. Finally\, in August 1920\, the 19th Amendment was ratified\, granting women across America the right to vote. \nThis year\, we’re celebrating the centennial of this seminal achievement in women’s rights—and honoring the sacrifice of the women who fought for our rights. Join Mary Brennan-Taylor\, suffrage historian and avid collector\, for this special virtual tour of “The Art of Suffrage” exhibit at the Kenan Center. \nRegister
URL:https://www.wbasny.org/event/the-art-of-suffrage-struggle-sacrifice-and-success/
ORGANIZER;CN="Western New York Women's Bar Association":MAILTO:wbasnywny@gmail.com
END:VEVENT
BEGIN:VEVENT
DTSTART;TZID=America/New_York:20200808T130000
DTEND;TZID=America/New_York:20200808T140000
DTSTAMP:20260423T041013
CREATED:20200723T160145Z
LAST-MODIFIED:20200723T161941Z
UID:51967-1596891600-1596895200@www.wbasny.org
SUMMARY:Virtual EqualiTea With the Presidents
DESCRIPTION:
URL:https://www.wbasny.org/event/virtual-equalitea-with-the-presidents/
ORGANIZER;CN="WBASNY":MAILTO:events@wbasny.org
END:VEVENT
BEGIN:VEVENT
DTSTART;TZID=America/New_York:20200809T100000
DTEND;TZID=America/New_York:20200809T120000
DTSTAMP:20260423T041013
CREATED:20200713T195526Z
LAST-MODIFIED:20200803T191654Z
UID:51919-1596967200-1596974400@www.wbasny.org
SUMMARY:Family Friendly Hike
DESCRIPTION:Orange-Sullivan Chapter\n \nFamily Friendly Hike \nSunday\, August 9th\, @ 10:00 am \nA morning hike at Moonbeams Preserve \n150 acres of fields\, forest\, and wetlands located at the base of the Shawangunk Ridge and bordering the Shawangunk Kill; Moonbeams is a quiet hidden gem. \nTrail is suitable for ages and skill levels. Please wear comfortable shoes\, bring water\, sunscreen\, and bug spray (if you use it). Social distancing will be followed. Dogs are not allowed per the preserve rules. \nAll social distancing and safety measures will be required at each event and outing. \nRSVP to rsvp@wbaosc.org to reserve a spot
URL:https://www.wbasny.org/event/family-friendly-hike/
END:VEVENT
BEGIN:VEVENT
DTSTART;TZID=America/New_York:20200811T180000
DTEND;TZID=America/New_York:20200811T190000
DTSTAMP:20260423T041013
CREATED:20200713T195644Z
LAST-MODIFIED:20200810T190446Z
UID:51921-1597168800-1597172400@www.wbasny.org
SUMMARY:Cancelled - Adult Tennis Lession
DESCRIPTION:Orange-Sullivan Chapter\n \nAdult Tennis Lesson \nTuesday\, August 11th\, @ 6-7:30pm \nGoshen Sport Complex \nSocially distanced tennis lesson and playing followed by light food and beverage. \nCost TBD. \nAll social distancing and safety measures will be required at each event and outing. \nRSVP to rsvp@wbaosc.org to reserve a spot
URL:https://www.wbasny.org/event/adult-tennis-lession/
END:VEVENT
BEGIN:VEVENT
DTSTART;TZID=America/New_York:20200813T193000
DTEND;TZID=America/New_York:20200813T203000
DTSTAMP:20260423T041013
CREATED:20200804T184837Z
LAST-MODIFIED:20200804T184837Z
UID:52002-1597347000-1597350600@www.wbasny.org
SUMMARY:All Things COVID
DESCRIPTION:Orange-Sullivan Chapter \nPlease email rsvp@wbaosc.org if you plan to come or have any questions!
URL:https://www.wbasny.org/event/all-things-covid-3/
END:VEVENT
BEGIN:VEVENT
DTSTART;TZID=America/New_York:20200814T090000
DTEND;TZID=America/New_York:20200814T100000
DTSTAMP:20260423T041013
CREATED:20200804T190535Z
LAST-MODIFIED:20200804T190535Z
UID:52011-1597395600-1597399200@www.wbasny.org
SUMMARY:Elect Women: Lessons in Running for Office
DESCRIPTION:Western New York Chapter \nIn the U.S.\, 51% of the population is female\, but women make up only 18% of the U.S. Congress. Let’s correct this historic imbalance and encourage more women to run for office! Join Katie Burd from Women Elect for a discussion on the process of running for elected office and the importance of women’s voices in politics. \nRegister for Elect Women
URL:https://www.wbasny.org/event/elect-women-lessons-in-running-for-office/
ORGANIZER;CN="Western New York Women's Bar Association":MAILTO:wbasnywny@gmail.com
END:VEVENT
BEGIN:VEVENT
DTSTART;TZID=America/New_York:20200815T160000
DTEND;TZID=America/New_York:20200815T170000
DTSTAMP:20260423T041013
CREATED:20200804T205124Z
LAST-MODIFIED:20200804T205155Z
UID:52026-1597507200-1597510800@www.wbasny.org
SUMMARY:Shady Ladies of Paris
DESCRIPTION:New York Chapter \n“Shady Ladies of Paris” \nPlease support the NYWBA Foundation\nby joining us for a private Zoom tour:\n“Shady Ladies of Paris” \nSaturday\, August 15\, 2020\, 4:00 p.m.\nVia Zoom \nCLICK HERE to RSVP and for more info.
URL:https://www.wbasny.org/event/shady-ladies-of-paris/
END:VEVENT
BEGIN:VEVENT
DTSTART;TZID=America/New_York:20200817T163000
DTEND;TZID=America/New_York:20200817T180000
DTSTAMP:20260423T041013
CREATED:20200727T171736Z
LAST-MODIFIED:20200727T171839Z
UID:51982-1597681800-1597687200@www.wbasny.org
SUMMARY:What She’s Made of - Women Who Run
DESCRIPTION:Western New York Chapter \n \nJoin the WNY Women’s Foundation for a virtual What She’s Made Of event focused on the critical importance of women’s civic engagement.  This inspiring online event will include special guests\, music\, and a dynamic keynote panel featuring women in our community who have run for elected office. Get inspired to take action and raise up the voices of women! \nInformation and Registration
URL:https://www.wbasny.org/event/what-shes-made-of/
ORGANIZER;CN="Western New York Women's Bar Association":MAILTO:wbasnywny@gmail.com
END:VEVENT
BEGIN:VEVENT
DTSTART;TZID=America/New_York:20200817T180000
DTEND;TZID=America/New_York:20200817T193000
DTSTAMP:20260423T041013
CREATED:20200817T205205Z
LAST-MODIFIED:20200817T205217Z
UID:52178-1597687200-1597692600@www.wbasny.org
SUMMARY:Officers Conference Call
DESCRIPTION:WBASNY \n 
URL:https://www.wbasny.org/event/officers-conference-call-3/
ORGANIZER;CN="WBASNY":MAILTO:events@wbasny.org
END:VEVENT
BEGIN:VEVENT
DTSTART;TZID=America/New_York:20200818T170000
DTEND;TZID=America/New_York:20200818T190000
DTSTAMP:20260423T041013
CREATED:20200713T193417Z
LAST-MODIFIED:20200713T193417Z
UID:51897-1597770000-1597777200@www.wbasny.org
SUMMARY:Equali-Tea-Party
DESCRIPTION:Orange-Sullivan Chapter
URL:https://www.wbasny.org/event/equali-tea-party/
LOCATION:Charlotte’s Tea Room\, 15 Oakland Avenue\, Warwick\, NY\, 10990
END:VEVENT
BEGIN:VEVENT
DTSTART;TZID=America/New_York:20200818T183000
DTEND;TZID=America/New_York:20200818T200000
DTSTAMP:20260423T041013
CREATED:20200728T143537Z
LAST-MODIFIED:20200728T143537Z
UID:51987-1597775400-1597780800@www.wbasny.org
SUMMARY:Virtual Networking Happy Hour
DESCRIPTION:Brooklyn Chapter \nHappy Hour virtual
URL:https://www.wbasny.org/event/virtual-networking-happy-hour/
END:VEVENT
BEGIN:VEVENT
DTSTART;TZID=America/New_York:20200818T201500
DTEND;TZID=America/New_York:20200818T211500
DTSTAMP:20260423T041013
CREATED:20200817T192047Z
LAST-MODIFIED:20200817T192047Z
UID:52122-1597781700-1597785300@www.wbasny.org
SUMMARY:An Evening with Dr. Sally Roesch Wagner
DESCRIPTION:Queens Chapter
URL:https://www.wbasny.org/event/an-evening-with-dr-sally-roesch-wagner/
END:VEVENT
BEGIN:VEVENT
DTSTART;TZID=America/New_York:20200824T190000
DTEND;TZID=America/New_York:20200824T200000
DTSTAMP:20260423T041013
CREATED:20200713T195821Z
LAST-MODIFIED:20200817T191754Z
UID:51923-1598295600-1598299200@www.wbasny.org
SUMMARY:Yoga with Jesse
DESCRIPTION:Orange-Sullivan Chapter\n \nYoga w/ Jesse \nTuesday\, August 24th\, @ 7pm \nThomas Bull Memorial Park\, near Sally’s Dream Playground \nMontgomery\, New York \n(please bring your own mat\, towel\, and water) \nThe class is FREE for members and $10 for non-members. \nAll social distancing and safety measures will be required at each event and outing. \nRSVP to rsvp@wbaosc.org to reserve a spot
URL:https://www.wbasny.org/event/51923/
END:VEVENT
BEGIN:VEVENT
DTSTART;TZID=America/New_York:20200826T074500
DTEND;TZID=America/New_York:20200826T081500
DTSTAMP:20260423T041013
CREATED:20200817T185021Z
LAST-MODIFIED:20200817T185202Z
UID:52113-1598427900-1598429700@www.wbasny.org
SUMMARY:Women’s Rights Pioneers Monument of Sojourner Truth
DESCRIPTION:Monumental Women
URL:https://www.wbasny.org/event/womens-rights-pioneers-monument-of-sojourner-truth/
END:VEVENT
BEGIN:VEVENT
DTSTART;TZID=America/New_York:20200826T173000
DTEND;TZID=America/New_York:20200826T183000
DTSTAMP:20260423T041013
CREATED:20200804T185154Z
LAST-MODIFIED:20200804T185154Z
UID:52005-1598463000-1598466600@www.wbasny.org
SUMMARY:Book Club
DESCRIPTION:Orange-Sullivan Chapter \nPlease email rsvp@wbaosc.org if you plan to come or have any questions!
URL:https://www.wbasny.org/event/book-club-3/
END:VEVENT
BEGIN:VEVENT
DTSTART;TZID=America/New_York:20200831T173000
DTEND;TZID=America/New_York:20200831T183000
DTSTAMP:20260423T041013
CREATED:20200804T185245Z
LAST-MODIFIED:20200804T185245Z
UID:52007-1598895000-1598898600@www.wbasny.org
SUMMARY:Mentoring
DESCRIPTION:Orange-Sullivan Chapter \nPlease email rsvp@wbaosc.org if you plan to come or have any questions!
URL:https://www.wbasny.org/event/mentoring-3/
END:VEVENT
END:VCALENDAR