BEGIN:VCALENDAR
VERSION:2.0
PRODID:-//wbasny - ECPv6.15.20//NONSGML v1.0//EN
CALSCALE:GREGORIAN
METHOD:PUBLISH
X-WR-CALNAME:wbasny
X-ORIGINAL-URL:https://www.wbasny.org
X-WR-CALDESC:Events for wbasny
REFRESH-INTERVAL;VALUE=DURATION:PT1H
X-Robots-Tag:noindex
X-PUBLISHED-TTL:PT1H
BEGIN:VTIMEZONE
TZID:America/New_York
BEGIN:DAYLIGHT
TZOFFSETFROM:-0500
TZOFFSETTO:-0400
TZNAME:EDT
DTSTART:20200308T070000
END:DAYLIGHT
BEGIN:STANDARD
TZOFFSETFROM:-0400
TZOFFSETTO:-0500
TZNAME:EST
DTSTART:20201101T060000
END:STANDARD
BEGIN:DAYLIGHT
TZOFFSETFROM:-0500
TZOFFSETTO:-0400
TZNAME:EDT
DTSTART:20210314T070000
END:DAYLIGHT
BEGIN:STANDARD
TZOFFSETFROM:-0400
TZOFFSETTO:-0500
TZNAME:EST
DTSTART:20211107T060000
END:STANDARD
BEGIN:DAYLIGHT
TZOFFSETFROM:-0500
TZOFFSETTO:-0400
TZNAME:EDT
DTSTART:20220313T070000
END:DAYLIGHT
BEGIN:STANDARD
TZOFFSETFROM:-0400
TZOFFSETTO:-0500
TZNAME:EST
DTSTART:20221106T060000
END:STANDARD
END:VTIMEZONE
BEGIN:VEVENT
DTSTART;TZID=America/New_York:20210701T163000
DTEND;TZID=America/New_York:20210701T180000
DTSTAMP:20260422T041717
CREATED:20210524T144000Z
LAST-MODIFIED:20210524T150229Z
UID:55584-1625157000-1625162400@www.wbasny.org
SUMMARY:The NY SHIELD Act: New Data Security Requirements for Both Clients and Lawyers
DESCRIPTION:Adirondack Chapter
URL:https://www.wbasny.org/event/the-ny-shield-act-new-data-security-requirements-for-both-clients-and-lawyers/
END:VEVENT
BEGIN:VEVENT
DTSTART;TZID=America/New_York:20210713T170000
DTEND;TZID=America/New_York:20210713T180000
DTSTAMP:20260422T041717
CREATED:20210706T163752Z
LAST-MODIFIED:20210706T163752Z
UID:56272-1626195600-1626199200@www.wbasny.org
SUMMARY:Zoom with a Judge Series
DESCRIPTION:New York Chapter \n \n\n\n\n \nZoom with a Judge Series\nJuly 13\, 2021\n\n\nFeaturing:  Honorable Judy Kim\nCivil Court of the City of New York\, New York County \nJuly 13\, 2021\, from 5:00 p.m. to 6:00 p.m\nClick here to RSVP
URL:https://www.wbasny.org/event/zoom-with-a-judge-series/
END:VEVENT
BEGIN:VEVENT
DTSTART;TZID=America/New_York:20210713T180000
DTEND;TZID=America/New_York:20210713T200000
DTSTAMP:20260422T041717
CREATED:20210624T142650Z
LAST-MODIFIED:20210624T142650Z
UID:56068-1626199200-1626206400@www.wbasny.org
SUMMARY:NCWBA Installation Dinner
DESCRIPTION:Nassau Chapter  \nThe Nassau County Women’s Bar Association cordially invites you to its Annual Installation Dinner   \nKEYNOTE SPEAKER   \nHon. Madeline Singas \nAssociate Judge\, New York State Court of Appeals  \n\nOFFICERS   \nPresident Hon. Lisa A. Cairo   \nPresident-Elect Cherice P. Vanderhall Wilson   \nVice President Allyson D. Burger \nVice President Kelly Koster  \nTreasurer Gail B. Saul  \nCorresponding Secretary Sasha Tinis  \nRecording Secretary Faith Getz Rousso \n  \nBOARD OF DIRECTORS \n2020-2022 \nDana Boylan \n Veronica Renta Irwin \n Jacqueline Rosenblum \nAngela Ruffini  \n\n2021-2023 \nGianna Crespo \nHon. Tomasina Mastroianni \nMickheila Jasmin-Beamon \nDanielle Visvader  \n\nWBASNY DELEGATES  \nElaine M. Colavito  \nTammy J. Smiley \nRanda Maher \nIrene Angelakis  \n\nWBASNY ALTERNATE DELEGATES \nHon. Andrea Phoenix \nAndrea M. Brodie  \n\nAWARD RECIPIENTS   \nRona Seider\, Esq. Award –  \nHon. Diane M. Dwyer \nNCWBA Past President  \n\nVirginia C. Duncombe\, Esq. Scholarship Award –  \nHon. Gail Prudenti  \nDean of Hofstra Law  \n\nBessie Ray Geffner\, Esq. Memorial Award \nSasha Tinis\, Esq.  \n\nTuesday\, July 13\, 2021  \nCocktails 6:00 p.m.  Dinner 7:00 p.m. \nSand Castle Caterers  \n505 Franklin Avenue \nFranklin Square\, NY 11010 \n\nRSVP by July 9th \nPurchase Tickets\, Sponsorships \nand Journal Ads Here!
URL:https://www.wbasny.org/event/ncwba-installation-dinner/
LOCATION:Sand Castle Caterers\, 505 Franklin Avenue\, Franklin Square\, NY\, 11010\, United States
END:VEVENT
BEGIN:VEVENT
DTSTART;TZID=America/New_York:20210714T130000
DTEND;TZID=America/New_York:20210714T150000
DTSTAMP:20260422T041717
CREATED:20210617T150055Z
LAST-MODIFIED:20210617T150445Z
UID:55854-1626267600-1626274800@www.wbasny.org
SUMMARY:Lunch with Judge Carolyn Walker-Diallo\, A.J.S.C
DESCRIPTION:Brooklyn Chapter
URL:https://www.wbasny.org/event/lunch-with-judge-carolyn-walker-diallo-a-j-s-c/
END:VEVENT
BEGIN:VEVENT
DTSTART;TZID=America/New_York:20210714T170000
DTEND;TZID=America/New_York:20210714T190000
DTSTAMP:20260422T041717
CREATED:20210621T150804Z
LAST-MODIFIED:20210621T150804Z
UID:55987-1626282000-1626289200@www.wbasny.org
SUMMARY:What It's REALLY Like to Practice Law As a Woman
DESCRIPTION:New York Chapter
URL:https://www.wbasny.org/event/what-its-really-like-to-practice-law-as-a-woman-2/
END:VEVENT
BEGIN:VEVENT
DTSTART;TZID=America/New_York:20210714T170000
DTEND;TZID=America/New_York:20210714T190000
DTSTAMP:20260422T041717
CREATED:20210706T164706Z
LAST-MODIFIED:20210706T164706Z
UID:56275-1626282000-1626289200@www.wbasny.org
SUMMARY:What It's REALLY Like to Practice Law as a Woman
DESCRIPTION:New York Chapter
URL:https://www.wbasny.org/event/what-its-really-like-to-practice-law-as-a-woman-3/
END:VEVENT
BEGIN:VEVENT
DTSTART;TZID=America/New_York:20210715T170000
DTEND;TZID=America/New_York:20210715T183000
DTSTAMP:20260422T041717
CREATED:20210621T151635Z
LAST-MODIFIED:20210621T151635Z
UID:55993-1626368400-1626373800@www.wbasny.org
SUMMARY:Immigration Nuts and Bolts 2021 Edition
DESCRIPTION:New York Chapter
URL:https://www.wbasny.org/event/immigration-nuts-and-bolts-2021-edition/
END:VEVENT
BEGIN:VEVENT
DTSTART;TZID=America/New_York:20210716T170000
DTEND;TZID=America/New_York:20210716T190000
DTSTAMP:20260422T041717
CREATED:20210701T175435Z
LAST-MODIFIED:20210702T143008Z
UID:56250-1626454800-1626462000@www.wbasny.org
SUMMARY:Del-Chen-O Summer Event
DESCRIPTION:Del-Chen-O Chapter \n\n\n\n\n\n\n\nSave the Date! \n\n\n\n\n\n\n\nThe Del-Chen-O Chapter of the Women’s Bar Association of New York invites you to our first in-person summer event! \nJoin us on \nFriday\, July 16 at 5 p.m. \nat Muddy River Farm Brewery\, \n15544 County Highway 2 \nUnadilla\, New York \nfor a FREE\, OUTDOOR informal get-together! \n  \nLight fare provided by The Tulip & The Rose. \nBeer\, wine & non-alcoholic beverages will be available for purchase.  \n  \nThe first drink is FREE to all member attendees. Members who bring a new member will receive an additional free drink for them and their guest!  \n  \nPlease R.S.V.P. to Elizabeth Klassner (eklassner@gmail.com)  \nby Friday\, July 9.
URL:https://www.wbasny.org/event/del-chen-o-summer-event/
LOCATION:Muddy River Farm Brewery\,\, 15544 County Highway 2\, Unadilla\, New York\, 13849
END:VEVENT
BEGIN:VEVENT
DTSTART;TZID=America/New_York:20210717T080000
DTEND;TZID=America/New_York:20210717T170000
DTSTAMP:20260422T041717
CREATED:20210615T193848Z
LAST-MODIFIED:20210615T200251Z
UID:55798-1626508800-1626541200@www.wbasny.org
SUMMARY:Leadership Training
DESCRIPTION:WBASNY
URL:https://www.wbasny.org/event/leadership-training-2/
LOCATION:TBD
ORGANIZER;CN="WBASNY":MAILTO:events@wbasny.org
END:VEVENT
BEGIN:VEVENT
DTSTART;TZID=America/New_York:20210721T180000
DTEND;TZID=America/New_York:20210721T193000
DTSTAMP:20260422T041717
CREATED:20210621T152410Z
LAST-MODIFIED:20210621T152443Z
UID:55997-1626890400-1626895800@www.wbasny.org
SUMMARY:New Lawyers Committee Outdoor Summer Social Event
DESCRIPTION:Western New York Chapter
URL:https://www.wbasny.org/event/new-lawyers-committee-outdoor-summer-social-event/
ORGANIZER;CN="Western New York Women's Bar Association":MAILTO:wbasnywny@gmail.com
END:VEVENT
BEGIN:VEVENT
DTSTART;TZID=America/New_York:20210728T130000
DTEND;TZID=America/New_York:20210728T143000
DTSTAMP:20260422T041717
CREATED:20210621T150944Z
LAST-MODIFIED:20210701T180605Z
UID:55990-1627477200-1627482600@www.wbasny.org
SUMMARY:CLE - Civil Court Name Change Process
DESCRIPTION:New York Chapter
URL:https://www.wbasny.org/event/cle-civil-court-name-change-process/
END:VEVENT
BEGIN:VEVENT
DTSTART;TZID=America/New_York:20210729T173000
DTEND;TZID=America/New_York:20210729T193000
DTSTAMP:20260422T041717
CREATED:20210701T204709Z
LAST-MODIFIED:20210701T204709Z
UID:56266-1627579800-1627587000@www.wbasny.org
SUMMARY:Western NY Committee Mixer
DESCRIPTION:Western NY Chapter
URL:https://www.wbasny.org/event/western-ny-committee-mixer/
ORGANIZER;CN="Western New York Women's Bar Association":MAILTO:wbasnywny@gmail.com
END:VEVENT
END:VCALENDAR