BEGIN:VCALENDAR
VERSION:2.0
PRODID:-//wbasny - ECPv6.15.20//NONSGML v1.0//EN
CALSCALE:GREGORIAN
METHOD:PUBLISH
X-WR-CALNAME:wbasny
X-ORIGINAL-URL:https://www.wbasny.org
X-WR-CALDESC:Events for wbasny
REFRESH-INTERVAL;VALUE=DURATION:PT1H
X-Robots-Tag:noindex
X-PUBLISHED-TTL:PT1H
BEGIN:VTIMEZONE
TZID:America/New_York
BEGIN:DAYLIGHT
TZOFFSETFROM:-0500
TZOFFSETTO:-0400
TZNAME:EDT
DTSTART:20230312T070000
END:DAYLIGHT
BEGIN:STANDARD
TZOFFSETFROM:-0400
TZOFFSETTO:-0500
TZNAME:EST
DTSTART:20231105T060000
END:STANDARD
BEGIN:DAYLIGHT
TZOFFSETFROM:-0500
TZOFFSETTO:-0400
TZNAME:EDT
DTSTART:20240310T070000
END:DAYLIGHT
BEGIN:STANDARD
TZOFFSETFROM:-0400
TZOFFSETTO:-0500
TZNAME:EST
DTSTART:20241103T060000
END:STANDARD
BEGIN:DAYLIGHT
TZOFFSETFROM:-0500
TZOFFSETTO:-0400
TZNAME:EDT
DTSTART:20250309T070000
END:DAYLIGHT
BEGIN:STANDARD
TZOFFSETFROM:-0400
TZOFFSETTO:-0500
TZNAME:EST
DTSTART:20251102T060000
END:STANDARD
END:VTIMEZONE
BEGIN:VEVENT
DTSTART;TZID=America/New_York:20240702T080000
DTEND;TZID=America/New_York:20240702T170000
DTSTAMP:20260420T043841
CREATED:20240702T200207Z
LAST-MODIFIED:20240702T200225Z
UID:72029-1719907200-1719939600@www.wbasny.org
SUMMARY:Chamber Chat with Hon. Brenda M. Freedman (Western Chapter)
DESCRIPTION:Please RSVP to: rebecca_izzo@nywd.uscourts.gov by July 26\, 2024
URL:https://www.wbasny.org/event/chamber-chat-with-hon-brenda-m-freedman/
END:VEVENT
BEGIN:VEVENT
DTSTART;TZID=America/New_York:20240709T080000
DTEND;TZID=America/New_York:20240709T093000
DTSTAMP:20260420T043841
CREATED:20240701T161531Z
LAST-MODIFIED:20240701T161531Z
UID:71997-1720512000-1720517400@www.wbasny.org
SUMMARY:Breakfast at the Bar (Central New York)
DESCRIPTION:
URL:https://www.wbasny.org/event/breakfast-at-the-bar-central-new-york-4/
END:VEVENT
BEGIN:VEVENT
DTSTART;TZID=America/New_York:20240710T113000
DTEND;TZID=America/New_York:20240710T130000
DTSTAMP:20260420T043841
CREATED:20240709T194427Z
LAST-MODIFIED:20240709T194427Z
UID:72127-1720611000-1720616400@www.wbasny.org
SUMMARY:Street Co-Naming (Queens Chapter)
DESCRIPTION:
URL:https://www.wbasny.org/event/street-co-naming-queens-chapter/
END:VEVENT
BEGIN:VEVENT
DTSTART;TZID=America/New_York:20240711T180000
DTEND;TZID=America/New_York:20240711T190000
DTSTAMP:20260420T043841
CREATED:20240621T193707Z
LAST-MODIFIED:20240621T193707Z
UID:71944-1720720800-1720724400@www.wbasny.org
SUMMARY:Paddleboarding and Bonfire (Orange and Sullivan Chapter)
DESCRIPTION:
URL:https://www.wbasny.org/event/paddleboarding-and-bonfire-orange-and-sullivan-chapter/
END:VEVENT
BEGIN:VEVENT
DTSTART;TZID=America/New_York:20240715T080000
DTEND;TZID=America/New_York:20240715T170000
DTSTAMP:20260420T043841
CREATED:20240709T194107Z
LAST-MODIFIED:20240709T194107Z
UID:72123-1721030400-1721062800@www.wbasny.org
SUMMARY:Seminary Golf  Classic (Queens Chapter)
DESCRIPTION:
URL:https://www.wbasny.org/event/seminary-golf-classic-queens-chapter/
END:VEVENT
BEGIN:VEVENT
DTSTART;TZID=America/New_York:20240716T120000
DTEND;TZID=America/New_York:20240716T130000
DTSTAMP:20260420T043841
CREATED:20240705T145817Z
LAST-MODIFIED:20240705T145817Z
UID:72063-1721131200-1721134800@www.wbasny.org
SUMMARY:Lunch with Hon. Rhonda Youngs (Del-Chen-O Chapter)
DESCRIPTION:The Del-Chen-O Board is excited to invite you to join us once again for our virtual “Lunch with a Judge” series. Our previous session with Hon. Sharon A.M. Aarons of the 3rd Department kicked off our third year of holding virtual “Lunch with a Judge” sessions. The next lunch will be with the Hon. Rhonda Youngs of Madison County…the first female judge in Madison County.  \n  \nThis virtual lunch will be held: \n  \nTuesday\, July 16\, 2024 at 12:00 PM.  \n  \nThe monthly meetings with judges allow attendees to get to know each judge and perhaps learn a few tricks for success as well as pet peeves to avoid. It is a wonderful opportunity to have a casual meeting and be able to chat about any topic. \n  \nIf you do not have Teams on your computer\, download it now so you are ready to go. The Teams link will be sent out on the day of the event. \n  \nHelp spread the word so all practitioners and law students can join in on this great FREE opportunity.
URL:https://www.wbasny.org/event/lunch-with-hon-rhonda-youngs-del-chen-o-chapter/
END:VEVENT
BEGIN:VEVENT
DTSTART;TZID=America/New_York:20240716T180000
DTEND;TZID=America/New_York:20240716T203000
DTSTAMP:20260420T043841
CREATED:20240610T151308Z
LAST-MODIFIED:20240610T151308Z
UID:71823-1721152800-1721161800@www.wbasny.org
SUMMARY:What It's Really Like to Practice Law as a Woman (New York Chapter)
DESCRIPTION:Click here to RSVP.
URL:https://www.wbasny.org/event/what-its-really-like-to-practice-law-as-a-woman-new-york-chapter/
END:VEVENT
BEGIN:VEVENT
DTSTART;TZID=America/New_York:20240717T080000
DTEND;TZID=America/New_York:20240717T090000
DTSTAMP:20260420T043841
CREATED:20240708T152406Z
LAST-MODIFIED:20240708T152406Z
UID:72068-1721203200-1721206800@www.wbasny.org
SUMMARY:NYWBA Solo & Small Firm Committee
DESCRIPTION:The NYWBA Solo & Small Firm Committee \nWelcomes you to a breakfast meeting\, the first of the year. We will begin the year with an in-person meeting to discuss all things health and wellness! \nSpeaker:\nMichelle Dionne Thompson\, Esq.\nof Resistant Vision Coaching and Consulting \n\n\n\nDate & Time:\nWednesday\, July 17\, 2024\, at 8:00 am – 9:00 am\n\n\nLocation:\n369 Lexington Avenue\, Suite 209\nNew York\, NY 10017\n\n\nAttendance:\nOpen to all NYWBA and WBASNY members\n\n\nRSVP:\nRSVP to SSFChairs@nywba.org by July 10\n\n\nOther Info:\nBring business cards or information on your practice\, such as contacts and website information. Also\, if you have any questions\, issues\, or topics you would like Michelle to cover\, feel free to send them in advance.
URL:https://www.wbasny.org/event/nywba-solo-small-firm-committee/
END:VEVENT
BEGIN:VEVENT
DTSTART;TZID=America/New_York:20240717T173000
DTEND;TZID=America/New_York:20240717T183000
DTSTAMP:20260420T043841
CREATED:20240702T193349Z
LAST-MODIFIED:20240702T193349Z
UID:72026-1721237400-1721241000@www.wbasny.org
SUMMARY:CLE- Attorney Banking and Fraud Prevention
DESCRIPTION:
URL:https://www.wbasny.org/event/cle-attorney-banking-and-fraud-prevention/
END:VEVENT
BEGIN:VEVENT
DTSTART;TZID=America/New_York:20240718T120000
DTEND;TZID=America/New_York:20240718T130000
DTSTAMP:20260420T043841
CREATED:20240715T175316Z
LAST-MODIFIED:20240715T175316Z
UID:72188-1721304000-1721307600@www.wbasny.org
SUMMARY:Lunch with Hon. Christopher Robles (Brooklyn Chapter)
DESCRIPTION:LUNCH WITH A JUDGE \nJuly 18\, 2024\nHon. Christopher Robles\nActing Supreme Court Judge\, Criminal Term\, Kings County \n \nRSVP HERE
URL:https://www.wbasny.org/event/lunch-with-hon-christopher-robles-brooklyn-chapter/
END:VEVENT
BEGIN:VEVENT
DTSTART;TZID=America/New_York:20240725T173000
DTEND;TZID=America/New_York:20240725T193000
DTSTAMP:20260420T043841
CREATED:20240626T145058Z
LAST-MODIFIED:20240626T145058Z
UID:71969-1721928600-1721935800@www.wbasny.org
SUMMARY:Paint and Sip (Brooklyn Chapter)
DESCRIPTION:RSVP to Paint & Sip
URL:https://www.wbasny.org/event/paint-and-sip-brooklyn-chapter/
END:VEVENT
BEGIN:VEVENT
DTSTART;TZID=America/New_York:20240726T170000
DTEND;TZID=America/New_York:20240726T200000
DTSTAMP:20260420T043841
CREATED:20240702T210205Z
LAST-MODIFIED:20240702T210205Z
UID:72043-1722013200-1722024000@www.wbasny.org
SUMMARY:Millbrook Winery Social Gathering (Mid-Hudson Chapter)
DESCRIPTION:Millbrook Winery Social Gathering \nJuly 26\, 2024 \nJoin members for Food Truck Friday at Millbrook Winery in Millbrook\, NY (5:00pm to 8:00pm). This event is family friendly. Bring your own blanket and/or lawn chair to enjoy the evening! \nIn person \n26 Wing Rd\, Millbrook\, NY 12545 \n*No Reservation Needed\, Seating is first come first serve; Ala Carte pricing. \nReservation Email: \nmidhudsonwba@gmail.com \nby \nJuly 25\, 2024
URL:https://www.wbasny.org/event/millbrook-winery-social-gathering-mid-hudson-chapter/
END:VEVENT
BEGIN:VEVENT
DTSTART;TZID=America/New_York:20240727T170000
DTEND;TZID=America/New_York:20240727T180000
DTSTAMP:20260420T043841
CREATED:20240701T151807Z
LAST-MODIFIED:20240701T151807Z
UID:71990-1722099600-1722103200@www.wbasny.org
SUMMARY:Del-Chen-O for brews and conversations
DESCRIPTION:
URL:https://www.wbasny.org/event/del-chen-o-for-brews-and-conversations/
END:VEVENT
BEGIN:VEVENT
DTSTART;TZID=America/New_York:20240730T130000
DTEND;TZID=America/New_York:20240730T140000
DTSTAMP:20260420T043841
CREATED:20240722T172205Z
LAST-MODIFIED:20240722T172254Z
UID:72317-1722344400-1722348000@www.wbasny.org
SUMMARY:CLE-Navigating the Challenging Landscape of Special Education Law
DESCRIPTION:Elder Law & Disabilities Committee \nLunch & Learn \nNavigating the Challenging Landscape of Special Education Law \nSpeaker:\nAdrienne Arkontaky\, Esq. \nTuesday\, July 30\, at 1:00 pm \nRSVP to elderlawchairs@nywba.org
URL:https://www.wbasny.org/event/cle-navigating-the-challenging-landscape-of-special-education-law/
END:VEVENT
END:VCALENDAR