BEGIN:VCALENDAR
VERSION:2.0
PRODID:-//wbasny - ECPv6.15.20//NONSGML v1.0//EN
CALSCALE:GREGORIAN
METHOD:PUBLISH
X-ORIGINAL-URL:https://www.wbasny.org
X-WR-CALDESC:Events for wbasny
REFRESH-INTERVAL;VALUE=DURATION:PT1H
X-Robots-Tag:noindex
X-PUBLISHED-TTL:PT1H
BEGIN:VTIMEZONE
TZID:America/New_York
BEGIN:DAYLIGHT
TZOFFSETFROM:-0500
TZOFFSETTO:-0400
TZNAME:EDT
DTSTART:20250309T070000
END:DAYLIGHT
BEGIN:STANDARD
TZOFFSETFROM:-0400
TZOFFSETTO:-0500
TZNAME:EST
DTSTART:20251102T060000
END:STANDARD
BEGIN:DAYLIGHT
TZOFFSETFROM:-0500
TZOFFSETTO:-0400
TZNAME:EDT
DTSTART:20260308T070000
END:DAYLIGHT
BEGIN:STANDARD
TZOFFSETFROM:-0400
TZOFFSETTO:-0500
TZNAME:EST
DTSTART:20261101T060000
END:STANDARD
BEGIN:DAYLIGHT
TZOFFSETFROM:-0500
TZOFFSETTO:-0400
TZNAME:EDT
DTSTART:20270314T070000
END:DAYLIGHT
BEGIN:STANDARD
TZOFFSETFROM:-0400
TZOFFSETTO:-0500
TZNAME:EST
DTSTART:20271107T060000
END:STANDARD
END:VTIMEZONE
BEGIN:VEVENT
DTSTART;TZID=America/New_York:20260504T110000
DTEND;TZID=America/New_York:20260504T170000
DTSTAMP:20260420T061136
CREATED:20260417T173519Z
LAST-MODIFIED:20260417T173519Z
UID:102471-1777892400-1777914000@www.wbasny.org
SUMMARY:Blood Drive (Suffolk Chapter)
DESCRIPTION:MAKE AN APPOINTMENT ONLINE AT: SCBA.ORG
URL:https://www.wbasny.org/event/blood-drive-suffolk-chapter/
END:VEVENT
BEGIN:VEVENT
DTSTART;TZID=America/New_York:20260506T180000
DTEND;TZID=America/New_York:20260506T190000
DTSTAMP:20260420T061136
CREATED:20260324T195912Z
LAST-MODIFIED:20260324T195912Z
UID:100912-1778090400-1778094000@www.wbasny.org
SUMMARY:Beginner's Mahjong! (New York Chapter)
DESCRIPTION:FOR MAHJONG EVENT ONLY
URL:https://www.wbasny.org/event/beginners-mahjong-new-york-chapter/
END:VEVENT
BEGIN:VEVENT
DTSTART;TZID=America/New_York:20260512T180000
DTEND;TZID=America/New_York:20260512T200000
DTSTAMP:20260420T061136
CREATED:20250829T211533Z
LAST-MODIFIED:20250829T211533Z
UID:90487-1778608800-1778616000@www.wbasny.org
SUMMARY:Officers Zoom Meeting (WBASNY)
DESCRIPTION:Officers Zoom Meeting \nVirtual
URL:https://www.wbasny.org/event/officers-zoom-meeting-wbasny-4/
ORGANIZER;CN="WBASNY":MAILTO:events@wbasny.org
END:VEVENT
BEGIN:VEVENT
DTSTART;TZID=America/New_York:20260513T130000
DTEND;TZID=America/New_York:20260513T140000
DTSTAMP:20260420T061136
CREATED:20260119T181331Z
LAST-MODIFIED:20260119T181331Z
UID:98082-1778677200-1778680800@www.wbasny.org
SUMMARY:CLE- Evidence Series
DESCRIPTION:
URL:https://www.wbasny.org/event/cle-evidence-series-5/
END:VEVENT
BEGIN:VEVENT
DTSTART;TZID=America/New_York:20260514T123000
DTEND;TZID=America/New_York:20260514T133000
DTSTAMP:20260420T061136
CREATED:20260319T151026Z
LAST-MODIFIED:20260319T151026Z
UID:100646-1778761800-1778765400@www.wbasny.org
SUMMARY:Whatcha Doin' for Lunch? (Mid-Hudson Chapter)
DESCRIPTION:
URL:https://www.wbasny.org/event/whatcha-doin-for-lunch-mid-hudson-chapter/
END:VEVENT
BEGIN:VEVENT
DTSTART;TZID=America/New_York:20260515T090000
DTEND;TZID=America/New_York:20260515T170000
DTSTAMP:20260420T061136
CREATED:20260324T171427Z
LAST-MODIFIED:20260324T171427Z
UID:100894-1778835600-1778864400@www.wbasny.org
SUMMARY:The Path Restored: Realities of the Road from Separation to Reunification (Orange and Sullivan Chapters)
DESCRIPTION:
URL:https://www.wbasny.org/event/the-path-restored-realities-of-the-road-from-separation-to-reunification-orange-and-sullivan-chapters/
END:VEVENT
BEGIN:VEVENT
DTSTART;TZID=America/New_York:20260527T173000
DTEND;TZID=America/New_York:20260527T180000
DTSTAMP:20260420T061136
CREATED:20260325T155014Z
LAST-MODIFIED:20260325T155014Z
UID:100922-1779903000-1779904800@www.wbasny.org
SUMMARY:STD Annual Awards Celebration & Installation of the 44th President (GRAWA Chapter)
DESCRIPTION:
URL:https://www.wbasny.org/event/std-annual-awards-celebration-installation-of-the-44th-president-grawa-chapter/
END:VEVENT
BEGIN:VEVENT
DTSTART;TZID=America/New_York:20260528T080000
DTEND;TZID=America/New_York:20260531T170000
DTSTAMP:20260420T061136
CREATED:20250829T211649Z
LAST-MODIFIED:20250829T211649Z
UID:90489-1779955200-1780246800@www.wbasny.org
SUMMARY:WBASNY Convention 2026
DESCRIPTION:WBASNY Convention 2026 \nWoodcliff Hotel & Spa \nRochester\, NY
URL:https://www.wbasny.org/event/wbasny-convention-2026/
ORGANIZER;CN="WBASNY":MAILTO:events@wbasny.org
END:VEVENT
END:VCALENDAR